FILENAME: O4611061.NES.1145689.tif
QUADRANGLE_NAME: CAMPFIRE LAKE
QUADRANT: NE
WEST_LONGITUDE: -110 26 15.00000
EAST_LONGITUDE: -110 22 30.00000
NORTH_LATITUDE: 46 7 30.00000
SOUTH_LATITUDE: 46 3 45.00000
PRODUCTION_DATE: 2001 03 13
RASTER_ORDER: LEFT_RIGHT/TOP_BOTTOM
BAND_ORGANIZATION: SINGLE FILE
BAND_CONTENT: BLACK&WHITE
BAND_CONTENT: UNDEFINED
BAND_CONTENT: UNDEFINED
BITS_PER_PIXEL: 8
SAMPLES_AND_LINES: 5580 7620
HORIZONTAL_DATUM: NAD83
HORIZONTAL_COORDINATE_SYSTEM: UTM
COORDINATE_ZONE: 12
HORIZONTAL_UNITS: METERS
HORIZONTAL_RESOLUTION: 1.00000
SECONDARY_HORIZONTAL_DATUM: NAD27
XY_ORIGIN: 543090.00000 5108430.00000
SECONDARY_XY_ORIGIN: 543149.41600 5108218.96900
NATION: US
STATE: MT
NW_QUAD_CORNER_XY: 543457.46500 5108089.77800
NE_QUAD_CORNER_XY: 548286.06500 5108125.84900
SE_QUAD_CORNERY_XY: 548340.64400 5101181.57100
SW_QUAD_CORNER_XY: 543506.58500 5101145.49700
SECONDARY_NW_QUAD_XY: 543458.77900 5107871.72900
SECONDARY_NE_QUAD_XY: 548287.52600 5107907.80100
SECONDARY_SE_QUAD_XY: 548342.10400 5100963.56400
SECONDARY_SW_QUAD_XY: 543507.89900 5100927.48900
RMSE_XY: 3.67000
IMAGE_SOURCE: BLACK AND WHITE FILM
SOURCE_IMAGE_ID: NAPP 12010 33
SOURCE_IMAGE_DATE: 1999 08 18
SOURCE_IMAGE_ID: NAPP 12010 34
SOURCE_IMAGE_DATE: 1999 08 18
SOURCE_IMAGE_ID: NAPP 12010 31
SOURCE_IMAGE_DATE: 1999 08 18
SOURCE_IMAGE_ID: NAPP 11009 97
SOURCE_IMAGE_DATE: 1998 07 22
SOURCE_DEM_DATE: 1993 00 00
AGENCY: WESTERN MAPPING CENTER (WMC)
PRODUCER: ANALYTICAL SURVEYS INC.
PRODUCTION_SYSTEM: ORBIT OR_RECTIFY V.5.2
COMPRESSION: UNDEFINED
STANDARD_VERSION: 1996 12
METADATA_DATE: 2001 03 28
DATA_FILE_SIZE: 42525180
BYTE_COUNT: 5580
