FILENAME: O4611061.NWS.1145690.tif
QUADRANGLE_NAME: CAMPFIRE LAKE
QUADRANT: NW
WEST_LONGITUDE: -110 30 0.00000
EAST_LONGITUDE: -110 26 15.00000
NORTH_LATITUDE: 46 7 30.00000
SOUTH_LATITUDE: 46 3 45.00000
PRODUCTION_DATE: 2001 03 13
RASTER_ORDER: LEFT_RIGHT/TOP_BOTTOM
BAND_ORGANIZATION: SINGLE FILE
BAND_CONTENT: BLACK&WHITE
BAND_CONTENT: UNDEFINED
BAND_CONTENT: UNDEFINED
BITS_PER_PIXEL: 8
SAMPLES_AND_LINES: 5550 7620
HORIZONTAL_DATUM: NAD83
HORIZONTAL_COORDINATE_SYSTEM: UTM
COORDINATE_ZONE: 12
HORIZONTAL_UNITS: METERS
HORIZONTAL_RESOLUTION: 1.00000
SECONDARY_HORIZONTAL_DATUM: NAD27
XY_ORIGIN: 538260.00000 5108400.00000
SECONDARY_XY_ORIGIN: 538319.41800 5108189.05300
NATION: US
STATE: MT
NW_QUAD_CORNER_XY: 538628.86300 5108057.50300
NE_QUAD_CORNER_XY: 543457.46500 5108089.77800
SE_QUAD_CORNERY_XY: 543506.58500 5101145.49700
SW_QUAD_CORNER_XY: 538672.52500 5101113.22000
SECONDARY_NW_QUAD_XY: 538630.03100 5107839.45300
SECONDARY_NE_QUAD_XY: 543458.77900 5107871.72900
SECONDARY_SE_QUAD_XY: 543507.89900 5100927.48900
SECONDARY_SW_QUAD_XY: 538673.69300 5100895.21100
RMSE_XY: 3.56000
IMAGE_SOURCE: BLACK AND WHITE FILM
SOURCE_IMAGE_ID: NAPP 12009 60
SOURCE_IMAGE_DATE: 1999 08 17
SOURCE_IMAGE_ID: NAPP 12009 58
SOURCE_IMAGE_DATE: 1999 08 17
SOURCE_IMAGE_ID: NAPP 12010 33
SOURCE_IMAGE_DATE: 1999 08 18
SOURCE_DEM_DATE: 1993 00 00
AGENCY: WESTERN MAPPING CENTER (WMC)
PRODUCER: ANALYTICAL SURVEYS INC.
PRODUCTION_SYSTEM: ORBIT OR_RECTIFY V.5.2
COMPRESSION: UNDEFINED
STANDARD_VERSION: 1996 12
METADATA_DATE: 2001 03 19
DATA_FILE_SIZE: 42296550
BYTE_COUNT: 5550
