FILENAME: O4611060.NES.1112066.tif
QUADRANGLE_NAME: LENA CREEK
QUADRANT: NE
WEST_LONGITUDE: -110 33 45.00000
EAST_LONGITUDE: -110 30 0.00000
NORTH_LATITUDE: 46 7 30.00000
SOUTH_LATITUDE: 46 3 45.00000
PRODUCTION_DATE: 2000 10 03
RASTER_ORDER: LEFT_RIGHT/TOP_BOTTOM
BAND_ORGANIZATION: SINGLE FILE
BAND_CONTENT: BLACK&WHITE
BAND_CONTENT: UNDEFINED
BAND_CONTENT: UNDEFINED
BITS_PER_PIXEL: 8
SAMPLES_AND_LINES: 5550 7620
HORIZONTAL_DATUM: NAD83
HORIZONTAL_COORDINATE_SYSTEM: UTM
COORDINATE_ZONE: 12
HORIZONTAL_UNITS: METERS
HORIZONTAL_RESOLUTION: 1.00000
SECONDARY_HORIZONTAL_DATUM: NAD27
XY_ORIGIN: 533430.00000 5108370.00000
SECONDARY_XY_ORIGIN: 533489.48000 5108159.15200
NATION: US
STATE: MT
NW_QUAD_CORNER_XY: 533800.25900 5108029.02600
NE_QUAD_CORNER_XY: 538628.86300 5108057.50300
SE_QUAD_CORNERY_XY: 538672.52500 5101113.22000
SW_QUAD_CORNER_XY: 533838.46300 5101084.74100
SECONDARY_NW_QUAD_XY: 533801.28100 5107810.97500
SECONDARY_NE_QUAD_XY: 538630.03100 5107839.45300
SECONDARY_SE_QUAD_XY: 538673.69300 5100895.21100
SECONDARY_SW_QUAD_XY: 533839.48500 5100866.73000
RMSE_XY: 2.85000
IMAGE_SOURCE: BLACK AND WHITE FILM
SOURCE_IMAGE_ID: NAPP 9167 24
SOURCE_IMAGE_DATE: 1996 08 26
SOURCE_DEM_DATE: 1972 00 00
AGENCY: WESTERN MAPPING CENTER (WMC)
PRODUCER: ANALYTICAL SURVEYS INC.
PRODUCTION_SYSTEM: ORBIT OR_RECTIFY V.5.2
COMPRESSION: UNDEFINED
STANDARD_VERSION: 1996 12
METADATA_DATE: 2000 10 03
DATA_FILE_SIZE: 42296550
BYTE_COUNT: 5550
