FILENAME: O4611059.SWS.1112065.tif
QUADRANGLE_NAME: COTTONWOOD RESERVOIR
QUADRANT: SW
WEST_LONGITUDE: -110 45 0.00000
EAST_LONGITUDE: -110 41 15.00000
NORTH_LATITUDE: 46 3 45.00000
SOUTH_LATITUDE: 46 0 0.00000
PRODUCTION_DATE: 2000 10 03
RASTER_ORDER: LEFT_RIGHT/TOP_BOTTOM
BAND_ORGANIZATION: SINGLE FILE
BAND_CONTENT: BLACK&WHITE
BAND_CONTENT: UNDEFINED
BAND_CONTENT: UNDEFINED
BITS_PER_PIXEL: 8
SAMPLES_AND_LINES: 5550 7590
HORIZONTAL_DATUM: NAD83
HORIZONTAL_COORDINATE_SYSTEM: UTM
COORDINATE_ZONE: 12
HORIZONTAL_UNITS: METERS
HORIZONTAL_RESOLUTION: 1.00000
SECONDARY_HORIZONTAL_DATUM: NAD27
XY_ORIGIN: 518970.00000 5101350.00000
SECONDARY_XY_ORIGIN: 519029.84400 5101139.58000
NATION: US
STATE: MT
NW_QUAD_CORNER_XY: 519336.26900 5101022.08600
NE_QUAD_CORNER_XY: 524170.33500 5101039.17400
SE_QUAD_CORNERY_XY: 524197.59400 5094094.96100
SW_QUAD_CORNER_XY: 519358.07600 5094077.87200
SECONDARY_NW_QUAD_XY: 519336.85300 5100804.07400
SECONDARY_NE_QUAD_XY: 524171.06500 5100821.16200
SECONDARY_SE_QUAD_XY: 524198.32400 5093876.99100
SECONDARY_SW_QUAD_XY: 519358.66000 5093859.90100
RMSE_XY: 1.61000
IMAGE_SOURCE: BLACK AND WHITE FILM
SOURCE_IMAGE_ID: NAPP 11006 65
SOURCE_IMAGE_DATE: 1998 07 21
SOURCE_DEM_DATE: 1972 00 00
AGENCY: WESTERN MAPPING CENTER (WMC)
PRODUCER: ANALYTICAL SURVEYS INC.
PRODUCTION_SYSTEM: ORBIT OR_RECTIFY V.5.2
COMPRESSION: UNDEFINED
STANDARD_VERSION: 1996 12
METADATA_DATE: 2000 10 03
DATA_FILE_SIZE: 42130050
BYTE_COUNT: 5550
