FILENAME: O4611058.SES.1004701.tif
QUADRANGLE_NAME: WALLROCK
QUADRANT: SE
WEST_LONGITUDE: -110 48 45.00000
EAST_LONGITUDE: -110 45 0.00000
NORTH_LATITUDE: 46 3 45.00000
SOUTH_LATITUDE: 46 0 0.00000
PRODUCTION_DATE: 1999 5 11
RASTER_ORDER: LEFT_RIGHT/TOP_BOTTOM
BAND_ORGANIZATION: SINGLE FILE
BAND_CONTENT: BLACK&WHITE
BAND_CONTENT: UNDEFINED
BAND_CONTENT: UNDEFINED
BITS_PER_PIXEL: 8
SAMPLES_AND_LINES: 5516 7568
HORIZONTAL_DATUM: NAD83
HORIZONTAL_COORDINATE_SYSTEM: UTM
COORDINATE_ZONE: 12
HORIZONTAL_UNITS: METERS
HORIZONTAL_RESOLUTION: 1.00000
SECONDARY_HORIZONTAL_DATUM: NAD27
XY_ORIGIN: 514142.00000 5101323.00000
SECONDARY_XY_ORIGIN: 514201.93300 5101112.63500
NATION: US
STATE: MT
NW_QUAD_CORNER_XY: 514502.20200 5101008.79600
NE_QUAD_CORNER_XY: 519336.26900 5101022.08700
SE_QUAD_CORNERY_XY: 519358.07600 5094077.87200
SW_QUAD_CORNER_XY: 514518.55800 5094064.58100
SECONDARY_NW_QUAD_XY: 514502.64000 5100790.78400
SECONDARY_NE_QUAD_XY: 519336.85300 5100804.07500
SECONDARY_SE_QUAD_XY: 519358.66000 5093859.90200
SECONDARY_SW_QUAD_XY: 514518.99600 5093846.61000
RMSE_XY: 1.40000
IMAGE_SOURCE: BLACK AND WHITE FILM
SOURCE_IMAGE_ID: NAPP 9183 137
SOURCE_IMAGE_DATE: 1997 9 9
SOURCE_DEM_DATE: 1999 5 11
AGENCY: WESTERN MAPPING CENTER (WMC)
PRODUCER: WESTERN MAPPING CENTER (WMC)
PRODUCTION_SYSTEM: DV2.6.3 10/9OV2.4 5/95
COMPRESSION: UNDEFINED
STANDARD_VERSION: 1996 12
METADATA_DATE: 1999 5 24
DATA_FILE_SIZE: 41750604
BYTE_COUNT: 5516
