FILENAME: O4611057.NES.1004717.tif
QUADRANGLE_NAME: HATFIELD MOUNTAIN
QUADRANT: NE
WEST_LONGITUDE: -110 56 15.00000
EAST_LONGITUDE: -110 52 30.00000
NORTH_LATITUDE: 46 7 30.00000
SOUTH_LATITUDE: 46 3 45.00000
PRODUCTION_DATE: 1999 5 11
RASTER_ORDER: LEFT_RIGHT/TOP_BOTTOM
BAND_ORGANIZATION: SINGLE FILE
BAND_CONTENT: BLACK&WHITE
BAND_CONTENT: UNDEFINED
BAND_CONTENT: UNDEFINED
BITS_PER_PIXEL: 8
SAMPLES_AND_LINES: 5500 7561
HORIZONTAL_DATUM: NAD83
HORIZONTAL_COORDINATE_SYSTEM: UTM
COORDINATE_ZONE: 12
HORIZONTAL_UNITS: METERS
HORIZONTAL_RESOLUTION: 1.00000
SECONDARY_HORIZONTAL_DATUM: NAD27
XY_ORIGIN: 504468.00000 5108245.00000
SECONDARY_XY_ORIGIN: 504527.00000 5108035.00000
NATION: US
STATE: MT
NW_QUAD_CORNER_XY: 504828.61000 5107937.90000
NE_QUAD_CORNER_XY: 509657.22000 5107943.59600
SE_QUAD_CORNERY_XY: 509668.13500 5100999.30300
SW_QUAD_CORNER_XY: 504834.06800 5100993.60800
SECONDARY_NW_QUAD_XY: 504828.75600 5107719.84700
SECONDARY_NE_QUAD_XY: 509657.51200 5107725.54200
SECONDARY_SE_QUAD_XY: 509668.42700 5100781.29100
SECONDARY_SW_QUAD_XY: 504834.21400 5100775.59500
RMSE_XY: 1.80000
IMAGE_SOURCE: BLACK AND WHITE FILM
SOURCE_IMAGE_ID: NAPP 11008 040
SOURCE_IMAGE_DATE: 1998 7 21
SOURCE_DEM_DATE: 1999 5 11
AGENCY: WESTERN MAPPING CENTER (WMC)
PRODUCER: WESTERN MAPPING CENTER (WMC)
PRODUCTION_SYSTEM: DV2.6.3 10/9OV2.4 5/95
COMPRESSION: UNDEFINED
STANDARD_VERSION: 1996 12
METADATA_DATE: 1999 5 24
DATA_FILE_SIZE: 41591000
BYTE_COUNT: 5500
