FILENAME: O4611057.SWS.1004721.tif
QUADRANGLE_NAME: HATFIELD MOUNTAIN
QUADRANT: SW
WEST_LONGITUDE: -111 0 0.00000
EAST_LONGITUDE: -110 56 15.00000
NORTH_LATITUDE: 46 3 45.00000
SOUTH_LATITUDE: 46 0 0.00000
PRODUCTION_DATE: 1999 5 11
RASTER_ORDER: LEFT_RIGHT/TOP_BOTTOM
BAND_ORGANIZATION: SINGLE FILE
BAND_CONTENT: BLACK&WHITE
BAND_CONTENT: UNDEFINED
BAND_CONTENT: UNDEFINED
BITS_PER_PIXEL: 8
SAMPLES_AND_LINES: 5500 7557
HORIZONTAL_DATUM: NAD83
HORIZONTAL_COORDINATE_SYSTEM: UTM
COORDINATE_ZONE: 12
HORIZONTAL_UNITS: METERS
HORIZONTAL_RESOLUTION: 1.00000
SECONDARY_HORIZONTAL_DATUM: NAD27
XY_ORIGIN: 499639.00000 5101295.00000
SECONDARY_XY_ORIGIN: 499699.19500 5101084.79000
NATION: US
STATE: MT
NW_QUAD_CORNER_XY: 500000.00000 5100991.70900
NE_QUAD_CORNER_XY: 504834.06800 5100993.60800
SE_QUAD_CORNERY_XY: 504839.52000 5094049.39100
SW_QUAD_CORNER_XY: 500000.00000 5094047.49200
SECONDARY_NW_QUAD_XY: 500000.00000 5100773.69600
SECONDARY_NE_QUAD_XY: 504834.21400 5100775.59500
SECONDARY_SE_QUAD_XY: 504839.66600 5093831.42000
SECONDARY_SW_QUAD_XY: 500000.00000 5093829.52100
RMSE_XY: 1.50000
IMAGE_SOURCE: BLACK AND WHITE FILM
SOURCE_IMAGE_ID: NAPP 11009 189
SOURCE_IMAGE_DATE: 1998 7 22
SOURCE_DEM_DATE: 1999 5 11
AGENCY: WESTERN MAPPING CENTER (WMC)
PRODUCER: WESTERN MAPPING CENTER (WMC)
PRODUCTION_SYSTEM: DV2.6.3 10/9OV2.4 5/95
COMPRESSION: UNDEFINED
STANDARD_VERSION: 1996 12
METADATA_DATE: 1999 5 24
DATA_FILE_SIZE: 41569000
BYTE_COUNT: 5500
