FILENAME: O4611056.NES.1115237.tif
QUADRANGLE_NAME: PORCUPINE BUTTE
QUADRANT: NE
WEST_LONGITUDE: -110 3 45.00000
EAST_LONGITUDE: -110 0 0.00000
NORTH_LATITUDE: 46 15 0.00000
SOUTH_LATITUDE: 46 11 15.00000
PRODUCTION_DATE: 2000 11 10
RASTER_ORDER: LEFT_RIGHT/TOP_BOTTOM
BAND_ORGANIZATION: SINGLE FILE
BAND_CONTENT: BLACK&WHITE
BAND_CONTENT: UNDEFINED
BAND_CONTENT: UNDEFINED
BITS_PER_PIXEL: 8
SAMPLES_AND_LINES: 5610 7620
HORIZONTAL_DATUM: NAD83
HORIZONTAL_COORDINATE_SYSTEM: UTM
COORDINATE_ZONE: 12
HORIZONTAL_UNITS: METERS
HORIZONTAL_RESOLUTION: 1.00000
SECONDARY_HORIZONTAL_DATUM: NAD27
XY_ORIGIN: 571890.00000 5122620.00000
SECONDARY_XY_ORIGIN: 571949.21400 5122407.62300
NATION: US
STATE: MT
NW_QUAD_CORNER_XY: 572265.02700 5122251.90900
NE_QUAD_CORNER_XY: 577082.67500 5122310.75600
SE_QUAD_CORNERY_XY: 577170.19100 5115366.35400
SW_QUAD_CORNER_XY: 572347.07200 5115307.50200
SECONDARY_NW_QUAD_XY: 572267.21900 5122033.79000
SECONDARY_NE_QUAD_XY: 577085.01300 5122092.63800
SECONDARY_SE_QUAD_XY: 577172.52800 5115148.27500
SECONDARY_SW_QUAD_XY: 572349.26300 5115089.42100
RMSE_XY: 1.20000
IMAGE_SOURCE: BLACK AND WHITE FILM
SOURCE_IMAGE_ID: NAPP 9172 19
SOURCE_IMAGE_DATE: 1997 08 23
SOURCE_DEM_DATE: 1972 00 00
AGENCY: WESTERN MAPPING CENTER (WMC)
PRODUCER: ANALYTICAL SURVEYS INC.
PRODUCTION_SYSTEM: ORBIT OR_RECTIFY V.5.2
COMPRESSION: UNDEFINED
STANDARD_VERSION: 1996 12
METADATA_DATE: 2000 11 13
DATA_FILE_SIZE: 42753810
BYTE_COUNT: 5610
