FILENAME: O4611056.NWS.1115238.tif
QUADRANGLE_NAME: PORCUPINE BUTTE
QUADRANT: NW
WEST_LONGITUDE: -110 7 30.00000
EAST_LONGITUDE: -110 3 45.00000
NORTH_LATITUDE: 46 15 0.00000
SOUTH_LATITUDE: 46 11 15.00000
PRODUCTION_DATE: 2000 11 10
RASTER_ORDER: LEFT_RIGHT/TOP_BOTTOM
BAND_ORGANIZATION: SINGLE FILE
BAND_CONTENT: BLACK&WHITE
BAND_CONTENT: UNDEFINED
BAND_CONTENT: UNDEFINED
BITS_PER_PIXEL: 8
SAMPLES_AND_LINES: 5580 7620
HORIZONTAL_DATUM: NAD83
HORIZONTAL_COORDINATE_SYSTEM: UTM
COORDINATE_ZONE: 12
HORIZONTAL_UNITS: METERS
HORIZONTAL_RESOLUTION: 1.00000
SECONDARY_HORIZONTAL_DATUM: NAD27
XY_ORIGIN: 567090.00000 5122560.00000
SECONDARY_XY_ORIGIN: 567149.12300 5122347.78600
NATION: US
STATE: MT
NW_QUAD_CORNER_XY: 567447.37500 5122196.86000
NE_QUAD_CORNER_XY: 572265.02700 5122251.90900
SE_QUAD_CORNERY_XY: 572347.07200 5115307.50200
SW_QUAD_CORNER_XY: 567523.94900 5115252.44700
SECONDARY_NW_QUAD_XY: 567449.42000 5121978.73800
SECONDARY_NE_QUAD_XY: 572267.21900 5122033.79000
SECONDARY_SE_QUAD_XY: 572349.26300 5115089.42100
SECONDARY_SW_QUAD_XY: 567525.99400 5115034.36500
RMSE_XY: 1.52000
IMAGE_SOURCE: BLACK AND WHITE FILM
SOURCE_IMAGE_ID: NAPP 9172 70
SOURCE_IMAGE_DATE: 1997 08 23
SOURCE_IMAGE_ID: NAPP 9172 72
SOURCE_IMAGE_DATE: 1997 08 23
SOURCE_DEM_DATE: 1972 00 00
AGENCY: WESTERN MAPPING CENTER (WMC)
PRODUCER: ANALYTICAL SURVEYS INC.
PRODUCTION_SYSTEM: ORBIT OR_RECTIFY V.5.2
COMPRESSION: UNDEFINED
STANDARD_VERSION: 1996 12
METADATA_DATE: 2000 11 13
DATA_FILE_SIZE: 42525180
BYTE_COUNT: 5580
