FILENAME: O4611055.NES.1118731.tif
QUADRANGLE_NAME: REIN LAKE
QUADRANT: NE
WEST_LONGITUDE: -110 11 15.00000
EAST_LONGITUDE: -110 7 30.00000
NORTH_LATITUDE: 46 15 0.00000
SOUTH_LATITUDE: 46 11 15.00000
PRODUCTION_DATE: 2000 11 05
RASTER_ORDER: LEFT_RIGHT/TOP_BOTTOM
BAND_ORGANIZATION: SINGLE FILE
BAND_CONTENT: BLACK&WHITE
BAND_CONTENT: UNDEFINED
BAND_CONTENT: UNDEFINED
BITS_PER_PIXEL: 8
SAMPLES_AND_LINES: 5580 7620
HORIZONTAL_DATUM: NAD83
HORIZONTAL_COORDINATE_SYSTEM: UTM
COORDINATE_ZONE: 12
HORIZONTAL_UNITS: METERS
HORIZONTAL_RESOLUTION: 1.00000
SECONDARY_HORIZONTAL_DATUM: NAD27
XY_ORIGIN: 562260.00000 5122500.00000
SECONDARY_XY_ORIGIN: 562319.03200 5122287.95000
NATION: US
STATE: MT
NW_QUAD_CORNER_XY: 562629.71900 5122145.60700
NE_QUAD_CORNER_XY: 567447.37500 5122196.86000
SE_QUAD_CORNERY_XY: 567523.94900 5115252.44700
SW_QUAD_CORNER_XY: 562700.82300 5115201.19000
SECONDARY_NW_QUAD_XY: 562631.61900 5121927.48400
SECONDARY_NE_QUAD_XY: 567449.42000 5121978.73800
SECONDARY_SE_QUAD_XY: 567525.99400 5115034.36500
SECONDARY_SW_QUAD_XY: 562702.72200 5114983.10700
RMSE_XY: 0.95000
IMAGE_SOURCE: BLACK AND WHITE FILM
SOURCE_IMAGE_ID: NAPP 9185 78
SOURCE_IMAGE_DATE: 1998 07 20
SOURCE_IMAGE_ID: NAPP 9185 76
SOURCE_IMAGE_DATE: 1998 07 20
SOURCE_DEM_DATE: 1993 00 00
AGENCY: WESTERN MAPPING CENTER (WMC)
PRODUCER: ANALYTICAL SURVEYS INC.
PRODUCTION_SYSTEM: ORBIT OR_RECTIFY V.5.2
COMPRESSION: UNDEFINED
STANDARD_VERSION: 1996 12
METADATA_DATE: 2000 11 20
DATA_FILE_SIZE: 42525180
BYTE_COUNT: 5580
