FILENAME: O4611055.SWS.1118734.tif
QUADRANGLE_NAME: REIN LAKE
QUADRANT: SW
WEST_LONGITUDE: -110 15 0.00000
EAST_LONGITUDE: -110 11 15.00000
NORTH_LATITUDE: 46 11 15.00000
SOUTH_LATITUDE: 46 7 30.00000
PRODUCTION_DATE: 2000 11 05
RASTER_ORDER: LEFT_RIGHT/TOP_BOTTOM
BAND_ORGANIZATION: SINGLE FILE
BAND_CONTENT: BLACK&WHITE
BAND_CONTENT: UNDEFINED
BAND_CONTENT: UNDEFINED
BITS_PER_PIXEL: 8
SAMPLES_AND_LINES: 5580 7620
HORIZONTAL_DATUM: NAD83
HORIZONTAL_COORDINATE_SYSTEM: UTM
COORDINATE_ZONE: 12
HORIZONTAL_UNITS: METERS
HORIZONTAL_RESOLUTION: 1.00000
SECONDARY_HORIZONTAL_DATUM: NAD27
XY_ORIGIN: 557520.00000 5115510.00000
SECONDARY_XY_ORIGIN: 557579.17900 5115298.41700
NATION: US
STATE: MT
NW_QUAD_CORNER_XY: 557877.69500 5115153.73100
NE_QUAD_CORNER_XY: 562700.82300 5115201.19000
SE_QUAD_CORNERY_XY: 562771.85200 5108256.84800
SW_QUAD_CORNER_XY: 557943.25900 5108209.38400
SECONDARY_NW_QUAD_XY: 557879.44800 5114935.64500
SECONDARY_NE_QUAD_XY: 562702.72200 5114983.10700
SECONDARY_SE_QUAD_XY: 562773.75100 5108038.80400
SECONDARY_SW_QUAD_XY: 557945.01200 5107991.33900
RMSE_XY: 1.67000
IMAGE_SOURCE: BLACK AND WHITE FILM
SOURCE_IMAGE_ID: NAPP 9185 83
SOURCE_IMAGE_DATE: 1998 07 20
SOURCE_IMAGE_ID: NAPP 9185 76
SOURCE_IMAGE_DATE: 1998 07 20
SOURCE_IMAGE_ID: NAPP 12010 61
SOURCE_IMAGE_DATE: 1999 08 18
SOURCE_IMAGE_ID: NAPP 9172 113
SOURCE_IMAGE_DATE: 1997 08 23
SOURCE_DEM_DATE: 1993 00 00
AGENCY: WESTERN MAPPING CENTER (WMC)
PRODUCER: ANALYTICAL SURVEYS INC.
PRODUCTION_SYSTEM: ORBIT OR_RECTIFY V.5.2
COMPRESSION: UNDEFINED
STANDARD_VERSION: 1996 12
METADATA_DATE: 2000 12 10
DATA_FILE_SIZE: 42525180
BYTE_COUNT: 5580
