FILENAME: O4611054.NES.1145749.tif
QUADRANGLE_NAME: LOCO MOUNTAIN
QUADRANT: NE
WEST_LONGITUDE: -110 18 45.00000
EAST_LONGITUDE: -110 15 0.00000
NORTH_LATITUDE: 46 15 0.00000
SOUTH_LATITUDE: 46 11 15.00000
PRODUCTION_DATE: 2001 03 21
RASTER_ORDER: LEFT_RIGHT/TOP_BOTTOM
BAND_ORGANIZATION: SINGLE FILE
BAND_CONTENT: BLACK&WHITE
BAND_CONTENT: UNDEFINED
BAND_CONTENT: UNDEFINED
BITS_PER_PIXEL: 8
SAMPLES_AND_LINES: 5550 7620
HORIZONTAL_DATUM: NAD83
HORIZONTAL_COORDINATE_SYSTEM: UTM
COORDINATE_ZONE: 12
HORIZONTAL_UNITS: METERS
HORIZONTAL_RESOLUTION: 1.00000
SECONDARY_HORIZONTAL_DATUM: NAD27
XY_ORIGIN: 552630.00000 5122410.00000
SECONDARY_XY_ORIGIN: 552688.96100 5122198.24700
NATION: US
STATE: MT
NW_QUAD_CORNER_XY: 552994.39900 5122054.49300
NE_QUAD_CORNER_XY: 557812.06100 5122098.15200
SE_QUAD_CORNERY_XY: 557877.69500 5115153.73100
SW_QUAD_CORNER_XY: 553054.56300 5115110.06800
SECONDARY_NW_QUAD_XY: 552996.00600 5121836.36800
SECONDARY_NE_QUAD_XY: 557813.81400 5121880.02800
SECONDARY_SE_QUAD_XY: 557879.44800 5114935.64500
SECONDARY_SW_QUAD_XY: 553056.17000 5114891.98100
RMSE_XY: 4.82000
IMAGE_SOURCE: BLACK AND WHITE FILM
SOURCE_IMAGE_ID: NAPP 9185 154
SOURCE_IMAGE_DATE: 1998 07 20
SOURCE_DEM_DATE: 1993 00 00
AGENCY: WESTERN MAPPING CENTER (WMC)
PRODUCER: ANALYTICAL SURVEYS INC.
PRODUCTION_SYSTEM: ORBIT OR_RECTIFY V.5.2
COMPRESSION: UNDEFINED
STANDARD_VERSION: 1996 12
METADATA_DATE: 2001 05 25
DATA_FILE_SIZE: 42296550
BYTE_COUNT: 5550
