FILENAME: O4611054.NWS.1145750.tif
QUADRANGLE_NAME: LOCO MOUNTAIN
QUADRANT: NW
WEST_LONGITUDE: -110 22 30.00000
EAST_LONGITUDE: -110 18 45.00000
NORTH_LATITUDE: 46 15 0.00000
SOUTH_LATITUDE: 46 11 15.00000
PRODUCTION_DATE: 2001 03 21
RASTER_ORDER: LEFT_RIGHT/TOP_BOTTOM
BAND_ORGANIZATION: SINGLE FILE
BAND_CONTENT: BLACK&WHITE
BAND_CONTENT: UNDEFINED
BAND_CONTENT: UNDEFINED
BITS_PER_PIXEL: 8
SAMPLES_AND_LINES: 5580 7620
HORIZONTAL_DATUM: NAD83
HORIZONTAL_COORDINATE_SYSTEM: UTM
COORDINATE_ZONE: 12
HORIZONTAL_UNITS: METERS
HORIZONTAL_RESOLUTION: 1.00000
SECONDARY_HORIZONTAL_DATUM: NAD27
XY_ORIGIN: 547800.00000 5122380.00000
SECONDARY_XY_ORIGIN: 547858.98300 5122168.38600
NATION: US
STATE: MT
NW_QUAD_CORNER_XY: 548176.73500 5122014.63100
NE_QUAD_CORNER_XY: 552994.39900 5122054.49300
SE_QUAD_CORNERY_XY: 553054.56300 5115110.06800
SW_QUAD_CORNER_XY: 548231.42900 5115070.20200
SECONDARY_NW_QUAD_XY: 548178.19600 5121796.50400
SECONDARY_NE_QUAD_XY: 552996.00600 5121836.36800
SECONDARY_SE_QUAD_XY: 553056.17000 5114891.98100
SECONDARY_SW_QUAD_XY: 548232.89000 5114852.11500
RMSE_XY: 2.37000
IMAGE_SOURCE: BLACK AND WHITE FILM
SOURCE_IMAGE_ID: NAPP 11016 8
SOURCE_IMAGE_DATE: 1998 08 25
SOURCE_IMAGE_ID: NAPP 9185 154
SOURCE_IMAGE_DATE: 1998 07 20
SOURCE_DEM_DATE: 1993 00 00
AGENCY: WESTERN MAPPING CENTER (WMC)
PRODUCER: ANALYTICAL SURVEYS INC.
PRODUCTION_SYSTEM: ORBIT OR_RECTIFY V.5.2
COMPRESSION: UNDEFINED
STANDARD_VERSION: 1996 12
METADATA_DATE: 2001 05 25
DATA_FILE_SIZE: 42525180
BYTE_COUNT: 5580
