FILENAME: O4611053.NES.1145745.tif
QUADRANGLE_NAME: VIRGINIA PEAK
QUADRANT: NE
WEST_LONGITUDE: -110 26 15.00000
EAST_LONGITUDE: -110 22 30.00000
NORTH_LATITUDE: 46 15 0.00000
SOUTH_LATITUDE: 46 11 15.00000
PRODUCTION_DATE: 2001 03 21
RASTER_ORDER: LEFT_RIGHT/TOP_BOTTOM
BAND_ORGANIZATION: SINGLE FILE
BAND_CONTENT: BLACK&WHITE
BAND_CONTENT: UNDEFINED
BAND_CONTENT: UNDEFINED
BITS_PER_PIXEL: 8
SAMPLES_AND_LINES: 5550 7620
HORIZONTAL_DATUM: NAD83
HORIZONTAL_COORDINATE_SYSTEM: UTM
COORDINATE_ZONE: 12
HORIZONTAL_UNITS: METERS
HORIZONTAL_RESOLUTION: 1.00000
SECONDARY_HORIZONTAL_DATUM: NAD27
XY_ORIGIN: 543000.00000 5122320.00000
SECONDARY_XY_ORIGIN: 543059.00700 5122108.52600
NATION: US
STATE: MT
NW_QUAD_CORNER_XY: 543359.06800 5121978.56600
NE_QUAD_CORNER_XY: 548176.73500 5122014.63100
SE_QUAD_CORNERY_XY: 548231.42900 5115070.20200
SW_QUAD_CORNER_XY: 543408.29300 5115034.13400
SECONDARY_NW_QUAD_XY: 543360.38300 5121760.43800
SECONDARY_NE_QUAD_XY: 548178.19600 5121796.50400
SECONDARY_SE_QUAD_XY: 548232.89000 5114852.11500
SECONDARY_SW_QUAD_XY: 543409.60700 5114816.04500
RMSE_XY: 2.72000
IMAGE_SOURCE: BLACK AND WHITE FILM
SOURCE_IMAGE_ID: NAPP 12010 37
SOURCE_IMAGE_DATE: 1999 08 18
SOURCE_DEM_DATE: 1993 00 00
AGENCY: WESTERN MAPPING CENTER (WMC)
PRODUCER: ANALYTICAL SURVEYS INC.
PRODUCTION_SYSTEM: ORBIT OR_RECTIFY V.5.2
COMPRESSION: UNDEFINED
STANDARD_VERSION: 1996 12
METADATA_DATE: 2001 05 24
DATA_FILE_SIZE: 42296550
BYTE_COUNT: 5550
