FILENAME: O4611052.NES.1145741.tif
QUADRANGLE_NAME: SCAB ROCK MOUNTAIN
QUADRANT: NE
WEST_LONGITUDE: -110 33 45.00000
EAST_LONGITUDE: -110 30 0.00000
NORTH_LATITUDE: 46 15 0.00000
SOUTH_LATITUDE: 46 11 15.00000
PRODUCTION_DATE: 2001 03 21
RASTER_ORDER: LEFT_RIGHT/TOP_BOTTOM
BAND_ORGANIZATION: SINGLE FILE
BAND_CONTENT: BLACK&WHITE
BAND_CONTENT: UNDEFINED
BAND_CONTENT: UNDEFINED
BITS_PER_PIXEL: 8
SAMPLES_AND_LINES: 5550 7620
HORIZONTAL_DATUM: NAD83
HORIZONTAL_COORDINATE_SYSTEM: UTM
COORDINATE_ZONE: 12
HORIZONTAL_UNITS: METERS
HORIZONTAL_RESOLUTION: 1.00000
SECONDARY_HORIZONTAL_DATUM: NAD27
XY_ORIGIN: 533340.00000 5122260.00000
SECONDARY_XY_ORIGIN: 533399.08900 5122048.78500
NATION: US
STATE: MT
NW_QUAD_CORNER_XY: 533723.72900 5121917.82500
NE_QUAD_CORNER_XY: 538541.39900 5121946.29700
SE_QUAD_CORNERY_XY: 538585.15400 5115001.86200
SW_QUAD_CORNER_XY: 533762.01400 5114973.38800
SECONDARY_NW_QUAD_XY: 533724.75200 5121699.69500
SECONDARY_NE_QUAD_XY: 538542.56800 5121728.16800
SECONDARY_SE_QUAD_XY: 538586.32300 5114783.77300
SECONDARY_SW_QUAD_XY: 533763.03600 5114755.29700
RMSE_XY: 2.39000
IMAGE_SOURCE: BLACK AND WHITE FILM
SOURCE_IMAGE_ID: NAPP 9167 28
SOURCE_IMAGE_DATE: 1996 08 26
SOURCE_IMAGE_ID: NAPP 11006 13
SOURCE_IMAGE_DATE: 1998 07 21
SOURCE_DEM_DATE: 1992 00 00
AGENCY: WESTERN MAPPING CENTER (WMC)
PRODUCER: ANALYTICAL SURVEYS INC.
PRODUCTION_SYSTEM: ORBIT OR_RECTIFY V.5.2
COMPRESSION: UNDEFINED
STANDARD_VERSION: 1996 12
METADATA_DATE: 2001 05 24
DATA_FILE_SIZE: 42296550
BYTE_COUNT: 5550
