FILENAME: O4611052.NWS.1145742.tif
QUADRANGLE_NAME: SCAB ROCK MOUNTAIN
QUADRANT: NW
WEST_LONGITUDE: -110 37 30.00000
EAST_LONGITUDE: -110 33 45.00000
NORTH_LATITUDE: 46 15 0.00000
SOUTH_LATITUDE: 46 11 15.00000
PRODUCTION_DATE: 2001 03 21
RASTER_ORDER: LEFT_RIGHT/TOP_BOTTOM
BAND_ORGANIZATION: SINGLE FILE
BAND_CONTENT: BLACK&WHITE
BAND_CONTENT: UNDEFINED
BAND_CONTENT: UNDEFINED
BITS_PER_PIXEL: 8
SAMPLES_AND_LINES: 5550 7590
HORIZONTAL_DATUM: NAD83
HORIZONTAL_COORDINATE_SYSTEM: UTM
COORDINATE_ZONE: 12
HORIZONTAL_UNITS: METERS
HORIZONTAL_RESOLUTION: 1.00000
SECONDARY_HORIZONTAL_DATUM: NAD27
XY_ORIGIN: 528540.00000 5122230.00000
SECONDARY_XY_ORIGIN: 528599.14100 5122018.90100
NATION: US
STATE: MT
NW_QUAD_CORNER_XY: 528906.05600 5121893.14900
NE_QUAD_CORNER_XY: 533723.72900 5121917.82500
SE_QUAD_CORNERY_XY: 533762.01400 5114973.38800
SW_QUAD_CORNER_XY: 528938.87200 5114948.71000
SECONDARY_NW_QUAD_XY: 528906.93300 5121675.01900
SECONDARY_NE_QUAD_XY: 533724.75200 5121699.69500
SECONDARY_SE_QUAD_XY: 533763.03600 5114755.29700
SECONDARY_SW_QUAD_XY: 528939.74900 5114730.61800
RMSE_XY: 1.77000
IMAGE_SOURCE: BLACK AND WHITE FILM
SOURCE_IMAGE_ID: NAPP 11006 13
SOURCE_IMAGE_DATE: 1998 07 21
SOURCE_IMAGE_ID: NAPP 11006 15
SOURCE_IMAGE_DATE: 1998 07 21
SOURCE_DEM_DATE: 1992 00 00
AGENCY: WESTERN MAPPING CENTER (WMC)
PRODUCER: ANALYTICAL SURVEYS INC.
PRODUCTION_SYSTEM: ORBIT OR_RECTIFY V.5.2
COMPRESSION: UNDEFINED
STANDARD_VERSION: 1996 12
METADATA_DATE: 2001 06 08
DATA_FILE_SIZE: 42130050
BYTE_COUNT: 5550
