FILENAME: O4611051.NES.1112058.tif
QUADRANGLE_NAME: WOLF HILL
QUADRANT: NE
WEST_LONGITUDE: -110 41 15.00000
EAST_LONGITUDE: -110 37 30.00000
NORTH_LATITUDE: 46 15 0.00000
SOUTH_LATITUDE: 46 11 15.00000
PRODUCTION_DATE: 2000 10 03
RASTER_ORDER: LEFT_RIGHT/TOP_BOTTOM
BAND_ORGANIZATION: SINGLE FILE
BAND_CONTENT: BLACK&WHITE
BAND_CONTENT: UNDEFINED
BAND_CONTENT: UNDEFINED
BITS_PER_PIXEL: 8
SAMPLES_AND_LINES: 5550 7590
HORIZONTAL_DATUM: NAD83
HORIZONTAL_COORDINATE_SYSTEM: UTM
COORDINATE_ZONE: 12
HORIZONTAL_UNITS: METERS
HORIZONTAL_RESOLUTION: 1.00000
SECONDARY_HORIZONTAL_DATUM: NAD27
XY_ORIGIN: 523710.00000 5122200.00000
SECONDARY_XY_ORIGIN: 523769.19500 5121989.01700
NATION: US
STATE: MT
NW_QUAD_CORNER_XY: 524088.38200 5121872.27000
NE_QUAD_CORNER_XY: 528906.05600 5121893.14900
SE_QUAD_CORNERY_XY: 528938.87200 5114948.71000
SW_QUAD_CORNER_XY: 524115.72900 5114927.82800
SECONDARY_NW_QUAD_XY: 524089.11300 5121654.13900
SECONDARY_NE_QUAD_XY: 528906.93300 5121675.01900
SECONDARY_SE_QUAD_XY: 528939.74900 5114730.61800
SECONDARY_SW_QUAD_XY: 524116.45900 5114709.73600
RMSE_XY: 1.86000
IMAGE_SOURCE: BLACK AND WHITE FILM
SOURCE_IMAGE_ID: NAPP 9183 49
SOURCE_IMAGE_DATE: 1997 09 09
SOURCE_IMAGE_ID: NAPP 9183 51
SOURCE_IMAGE_DATE: 1997 09 09
SOURCE_DEM_DATE: 1951 00 00
AGENCY: WESTERN MAPPING CENTER (WMC)
PRODUCER: ANALYTICAL SURVEYS INC.
PRODUCTION_SYSTEM: ORBIT OR_RECTIFY V.5.2
COMPRESSION: UNDEFINED
STANDARD_VERSION: 1996 12
METADATA_DATE: 2000 10 03
DATA_FILE_SIZE: 42130050
BYTE_COUNT: 5550
