FILENAME: O4611051.SWS.1112061.tif
QUADRANGLE_NAME: WOLF HILL
QUADRANT: SW
WEST_LONGITUDE: -110 45 0.00000
EAST_LONGITUDE: -110 41 15.00000
NORTH_LATITUDE: 46 11 15.00000
SOUTH_LATITUDE: 46 7 30.00000
PRODUCTION_DATE: 2000 10 03
RASTER_ORDER: LEFT_RIGHT/TOP_BOTTOM
BAND_ORGANIZATION: SINGLE FILE
BAND_CONTENT: BLACK&WHITE
BAND_CONTENT: UNDEFINED
BAND_CONTENT: UNDEFINED
BITS_PER_PIXEL: 8
SAMPLES_AND_LINES: 5550 7590
HORIZONTAL_DATUM: NAD83
HORIZONTAL_COORDINATE_SYSTEM: UTM
COORDINATE_ZONE: 12
HORIZONTAL_UNITS: METERS
HORIZONTAL_RESOLUTION: 1.00000
SECONDARY_HORIZONTAL_DATUM: NAD27
XY_ORIGIN: 518910.00000 5115240.00000
SECONDARY_XY_ORIGIN: 518969.44600 5115029.28000
NATION: US
STATE: MT
NW_QUAD_CORNER_XY: 519292.58400 5114910.74400
NE_QUAD_CORNER_XY: 524115.72900 5114927.82800
SE_QUAD_CORNERY_XY: 524143.04600 5107983.46300
SW_QUAD_CORNER_XY: 519314.43800 5107966.37700
SECONDARY_NW_QUAD_XY: 519293.16900 5114692.65100
SECONDARY_NE_QUAD_XY: 524116.45900 5114709.73600
SECONDARY_SE_QUAD_XY: 524143.77600 5107765.41100
SECONDARY_SW_QUAD_XY: 519315.02200 5107748.32400
RMSE_XY: 1.92000
IMAGE_SOURCE: BLACK AND WHITE FILM
SOURCE_IMAGE_ID: NAPP 9183 54
SOURCE_IMAGE_DATE: 1997 09 09
SOURCE_DEM_DATE: 1951 00 00
AGENCY: WESTERN MAPPING CENTER (WMC)
PRODUCER: ANALYTICAL SURVEYS INC.
PRODUCTION_SYSTEM: ORBIT OR_RECTIFY V.5.2
COMPRESSION: UNDEFINED
STANDARD_VERSION: 1996 12
METADATA_DATE: 2000 10 03
DATA_FILE_SIZE: 42130050
BYTE_COUNT: 5550
