FILENAME: O4611050.SES.1004714.tif
QUADRANGLE_NAME: SIXTEEN NE
QUADRANT: SE
WEST_LONGITUDE: -110 48 45.00000
EAST_LONGITUDE: -110 45 0.00000
NORTH_LATITUDE: 46 11 15.00000
SOUTH_LATITUDE: 46 7 30.00000
PRODUCTION_DATE: 1999 5 10
RASTER_ORDER: LEFT_RIGHT/TOP_BOTTOM
BAND_ORGANIZATION: SINGLE FILE
BAND_CONTENT: BLACK&WHITE
BAND_CONTENT: UNDEFINED
BAND_CONTENT: UNDEFINED
BITS_PER_PIXEL: 8
SAMPLES_AND_LINES: 5504 7568
HORIZONTAL_DATUM: NAD83
HORIZONTAL_COORDINATE_SYSTEM: UTM
COORDINATE_ZONE: 12
HORIZONTAL_UNITS: METERS
HORIZONTAL_RESOLUTION: 1.00000
SECONDARY_HORIZONTAL_DATUM: NAD27
XY_ORIGIN: 514109.00000 5115212.00000
SECONDARY_XY_ORIGIN: 514168.00000 5115002.00000
NATION: US
STATE: MT
NW_QUAD_CORNER_XY: 514469.43900 5114897.45600
NE_QUAD_CORNER_XY: 519292.58400 5114910.74400
SE_QUAD_CORNERY_XY: 519314.43800 5107966.37700
SW_QUAD_CORNER_XY: 514485.82900 5107953.08800
SECONDARY_NW_QUAD_XY: 514469.87700 5114679.36300
SECONDARY_NE_QUAD_XY: 519293.16900 5114692.65100
SECONDARY_SE_QUAD_XY: 519315.02200 5107748.32400
SECONDARY_SW_QUAD_XY: 514486.26800 5107735.03500
RMSE_XY: 2.00000
IMAGE_SOURCE: BLACK AND WHITE FILM
SOURCE_IMAGE_ID: NAPP 9183 133
SOURCE_IMAGE_DATE: 1997 9 9
SOURCE_DEM_DATE: 1999 5 10
AGENCY: WESTERN MAPPING CENTER (WMC)
PRODUCER: WESTERN MAPPING CENTER (WMC)
PRODUCTION_SYSTEM: DV2.6.3 10/9OV2.4 5/95
COMPRESSION: UNDEFINED
STANDARD_VERSION: 1996 12
METADATA_DATE: 1999 5 24
DATA_FILE_SIZE: 41659776
BYTE_COUNT: 5504
