FILENAME: O4611050.SWS.1004715.tif
QUADRANGLE_NAME: SIXTEEN NE
QUADRANT: SW
WEST_LONGITUDE: -110 52 30.00000
EAST_LONGITUDE: -110 48 45.00000
NORTH_LATITUDE: 46 11 15.00000
SOUTH_LATITUDE: 46 7 30.00000
PRODUCTION_DATE: 1999 5 10
RASTER_ORDER: LEFT_RIGHT/TOP_BOTTOM
BAND_ORGANIZATION: SINGLE FILE
BAND_CONTENT: BLACK&WHITE
BAND_CONTENT: UNDEFINED
BAND_CONTENT: UNDEFINED
BITS_PER_PIXEL: 8
SAMPLES_AND_LINES: 5500 7564
HORIZONTAL_DATUM: NAD83
HORIZONTAL_COORDINATE_SYSTEM: UTM
COORDINATE_ZONE: 12
HORIZONTAL_UNITS: METERS
HORIZONTAL_RESOLUTION: 1.00000
SECONDARY_HORIZONTAL_DATUM: NAD27
XY_ORIGIN: 509286.00000 5115198.00000
SECONDARY_XY_ORIGIN: 509345.65900 5114987.41700
NATION: US
STATE: MT
NW_QUAD_CORNER_XY: 509646.29300 5114887.96400
NE_QUAD_CORNER_XY: 514469.43900 5114897.45600
SE_QUAD_CORNERY_XY: 514485.82900 5107953.08800
SW_QUAD_CORNER_XY: 509657.22000 5107943.59600
SECONDARY_NW_QUAD_XY: 509646.58500 5114669.87100
SECONDARY_NE_QUAD_XY: 514469.87700 5114679.36300
SECONDARY_SE_QUAD_XY: 514486.26800 5107735.03500
SECONDARY_SW_QUAD_XY: 509657.51200 5107725.54200
RMSE_XY: 1.90000
IMAGE_SOURCE: BLACK AND WHITE FILM
SOURCE_IMAGE_ID: NAPP 11009 158
SOURCE_IMAGE_DATE: 1998 7 22
SOURCE_DEM_DATE: 1999 5 10
AGENCY: WESTERN MAPPING CENTER (WMC)
PRODUCER: WESTERN MAPPING CENTER (WMC)
PRODUCTION_SYSTEM: DV2.6.3 10/9OV2.4 5/95
COMPRESSION: UNDEFINED
STANDARD_VERSION: 1996 12
METADATA_DATE: 1999 5 24
DATA_FILE_SIZE: 41607500
BYTE_COUNT: 5500
