FILENAME: O4611049.NES.1004707.tif
QUADRANGLE_NAME: SIXTEEN
QUADRANT: NE
WEST_LONGITUDE: -110 56 15.00000
EAST_LONGITUDE: -110 52 30.00000
NORTH_LATITUDE: 46 15 0.00000
SOUTH_LATITUDE: 46 11 15.00000
PRODUCTION_DATE: 1999 5 10
RASTER_ORDER: LEFT_RIGHT/TOP_BOTTOM
BAND_ORGANIZATION: SINGLE FILE
BAND_CONTENT: BLACK&WHITE
BAND_CONTENT: UNDEFINED
BAND_CONTENT: UNDEFINED
BITS_PER_PIXEL: 8
SAMPLES_AND_LINES: 5488 7560
HORIZONTAL_DATUM: NAD83
HORIZONTAL_COORDINATE_SYSTEM: UTM
COORDINATE_ZONE: 12
HORIZONTAL_UNITS: METERS
HORIZONTAL_RESOLUTION: 1.00000
SECONDARY_HORIZONTAL_DATUM: NAD27
XY_ORIGIN: 504457.00000 5122133.00000
SECONDARY_XY_ORIGIN: 504516.59500 5121922.35200
NATION: US
STATE: MT
NW_QUAD_CORNER_XY: 504817.67700 5121826.71500
NE_QUAD_CORNER_XY: 509635.35500 5121832.40900
SE_QUAD_CORNERY_XY: 509646.29300 5114887.96400
SW_QUAD_CORNER_XY: 504823.14700 5114882.27000
SECONDARY_NW_QUAD_XY: 504817.82400 5121608.58300
SECONDARY_NE_QUAD_XY: 509635.64700 5121614.27700
SECONDARY_SE_QUAD_XY: 509646.58500 5114669.87100
SECONDARY_SW_QUAD_XY: 504823.29300 5114664.17600
RMSE_XY: 1.30000
IMAGE_SOURCE: BLACK AND WHITE FILM
SOURCE_IMAGE_ID: NAPP 11008 044
SOURCE_IMAGE_DATE: 1998 7 21
SOURCE_DEM_DATE: 1999 5 10
AGENCY: WESTERN MAPPING CENTER (WMC)
PRODUCER: WESTERN MAPPING CENTER (WMC)
PRODUCTION_SYSTEM: DV2.6.3 10/9OV2.4 5/95
COMPRESSION: UNDEFINED
STANDARD_VERSION: 1996 12
METADATA_DATE: 1999 5 24
DATA_FILE_SIZE: 41494768
BYTE_COUNT: 5488
