FILENAME: O4611049.SWS.1004710.tif
QUADRANGLE_NAME: SIXTEEN
QUADRANT: SW
WEST_LONGITUDE: -111 0 0.00000
EAST_LONGITUDE: -110 56 15.00000
NORTH_LATITUDE: 46 11 15.00000
SOUTH_LATITUDE: 46 7 30.00000
PRODUCTION_DATE: 1999 5 10
RASTER_ORDER: LEFT_RIGHT/TOP_BOTTOM
BAND_ORGANIZATION: SINGLE FILE
BAND_CONTENT: BLACK&WHITE
BAND_CONTENT: UNDEFINED
BAND_CONTENT: UNDEFINED
BITS_PER_PIXEL: 8
SAMPLES_AND_LINES: 5492 7557
HORIZONTAL_DATUM: NAD83
HORIZONTAL_COORDINATE_SYSTEM: UTM
COORDINATE_ZONE: 12
HORIZONTAL_UNITS: METERS
HORIZONTAL_RESOLUTION: 1.00000
SECONDARY_HORIZONTAL_DATUM: NAD27
XY_ORIGIN: 499639.00000 5115183.00000
SECONDARY_XY_ORIGIN: 499698.87100 5114972.54600
NATION: US
STATE: MT
NW_QUAD_CORNER_XY: 500000.00000 5114880.37100
NE_QUAD_CORNER_XY: 504823.14700 5114882.27000
SE_QUAD_CORNERY_XY: 504828.61000 5107937.90000
SW_QUAD_CORNER_XY: 500000.00000 5107936.00200
SECONDARY_NW_QUAD_XY: 500000.00000 5114662.27800
SECONDARY_NE_QUAD_XY: 504823.29300 5114664.17600
SECONDARY_SE_QUAD_XY: 504828.75600 5107719.84700
SECONDARY_SW_QUAD_XY: 500000.00000 5107717.94800
RMSE_XY: 1.50000
IMAGE_SOURCE: BLACK AND WHITE FILM
SOURCE_IMAGE_ID: NAPP 11009 185
SOURCE_IMAGE_DATE: 1998 7 22
SOURCE_DEM_DATE: 1999 5 10
AGENCY: WESTERN MAPPING CENTER (WMC)
PRODUCER: WESTERN MAPPING CENTER (WMC)
PRODUCTION_SYSTEM: DV2.6.3 10/9OV2.4 5/95
COMPRESSION: UNDEFINED
STANDARD_VERSION: 1996 12
METADATA_DATE: 1999 5 24
DATA_FILE_SIZE: 41508536
BYTE_COUNT: 5492
