FILENAME: O4611045.NWS.1118724.tif
QUADRANGLE_NAME: LEBO
QUADRANT: NW
WEST_LONGITUDE: -110 30 0.00000
EAST_LONGITUDE: -110 26 15.00000
NORTH_LATITUDE: 46 22 30.00000
SOUTH_LATITUDE: 46 18 45.00000
PRODUCTION_DATE: 2000 11 01
RASTER_ORDER: LEFT_RIGHT/TOP_BOTTOM
BAND_ORGANIZATION: SINGLE FILE
BAND_CONTENT: BLACK&WHITE
BAND_CONTENT: UNDEFINED
BAND_CONTENT: UNDEFINED
BITS_PER_PIXEL: 8
SAMPLES_AND_LINES: 5550 7620
HORIZONTAL_DATUM: NAD83
HORIZONTAL_COORDINATE_SYSTEM: UTM
COORDINATE_ZONE: 12
HORIZONTAL_UNITS: METERS
HORIZONTAL_RESOLUTION: 1.00000
SECONDARY_HORIZONTAL_DATUM: NAD27
XY_ORIGIN: 538080.00000 5136180.00000
SECONDARY_XY_ORIGIN: 538138.88300 5135968.30800
NATION: US
STATE: MT
NW_QUAD_CORNER_XY: 538453.75200 5135835.39400
NE_QUAD_CORNER_XY: 543260.46400 5135867.65600
SE_QUAD_CORNERY_XY: 543309.79200 5128923.07300
SW_QUAD_CORNER_XY: 538497.59900 5128890.80800
SECONDARY_NW_QUAD_XY: 538454.92100 5135617.18900
SECONDARY_NE_QUAD_XY: 543261.77900 5135649.45300
SECONDARY_SE_QUAD_XY: 543311.10700 5128704.90700
SECONDARY_SW_QUAD_XY: 538498.76800 5128672.64100
RMSE_XY: 1.75000
IMAGE_SOURCE: BLACK AND WHITE FILM
SOURCE_IMAGE_ID: NAPP 12009 68
SOURCE_IMAGE_DATE: 1999 08 17
SOURCE_IMAGE_ID: NAPP 12009 66
SOURCE_IMAGE_DATE: 1999 08 17
SOURCE_IMAGE_ID: NAPP 12010 41
SOURCE_IMAGE_DATE: 1999 08 18
SOURCE_DEM_DATE: 1993 00 00
AGENCY: WESTERN MAPPING CENTER (WMC)
PRODUCER: ANALYTICAL SURVEYS INC.
PRODUCTION_SYSTEM: ORBIT OR_RECTIFY V.5.2
COMPRESSION: UNDEFINED
STANDARD_VERSION: 1996 12
METADATA_DATE: 2000 11 22
DATA_FILE_SIZE: 42296550
BYTE_COUNT: 5550
