FILENAME: O4611045.SES.1118725.tif
QUADRANGLE_NAME: LEBO
QUADRANT: SE
WEST_LONGITUDE: -110 26 15.00000
EAST_LONGITUDE: -110 22 30.00000
NORTH_LATITUDE: 46 18 45.00000
SOUTH_LATITUDE: 46 15 0.00000
PRODUCTION_DATE: 2000 11 01
RASTER_ORDER: LEFT_RIGHT/TOP_BOTTOM
BAND_ORGANIZATION: SINGLE FILE
BAND_CONTENT: BLACK&WHITE
BAND_CONTENT: UNDEFINED
BAND_CONTENT: UNDEFINED
BITS_PER_PIXEL: 8
SAMPLES_AND_LINES: 5550 7620
HORIZONTAL_DATUM: NAD83
HORIZONTAL_COORDINATE_SYSTEM: UTM
COORDINATE_ZONE: 12
HORIZONTAL_UNITS: METERS
HORIZONTAL_RESOLUTION: 1.00000
SECONDARY_HORIZONTAL_DATUM: NAD27
XY_ORIGIN: 542940.00000 5129280.00000
SECONDARY_XY_ORIGIN: 542998.94700 5129068.39600
NATION: US
STATE: MT
NW_QUAD_CORNER_XY: 543309.79200 5128923.07300
NE_QUAD_CORNER_XY: 548121.98300 5128959.13500
SE_QUAD_CORNERY_XY: 548176.73500 5122014.63100
SW_QUAD_CORNER_XY: 543359.06800 5121978.56600
SECONDARY_NW_QUAD_XY: 543311.10700 5128704.90700
SECONDARY_NE_QUAD_XY: 548123.44400 5128740.97000
SECONDARY_SE_QUAD_XY: 548178.19600 5121796.50400
SECONDARY_SW_QUAD_XY: 543360.38300 5121760.43800
RMSE_XY: 2.39000
IMAGE_SOURCE: BLACK AND WHITE FILM
SOURCE_IMAGE_ID: NAPP 12010 39
SOURCE_IMAGE_DATE: 1999 08 18
SOURCE_IMAGE_ID: NAPP 12010 41
SOURCE_IMAGE_DATE: 1999 08 18
SOURCE_DEM_DATE: 1993 00 00
AGENCY: WESTERN MAPPING CENTER (WMC)
PRODUCER: ANALYTICAL SURVEYS INC.
PRODUCTION_SYSTEM: ORBIT OR_RECTIFY V.5.2
COMPRESSION: UNDEFINED
STANDARD_VERSION: 1996 12
METADATA_DATE: 2000 11 22
DATA_FILE_SIZE: 42296550
BYTE_COUNT: 5550
