FILENAME: O4611044.NES.1118719.tif
QUADRANGLE_NAME: RIMROCK DIVIDE
QUADRANT: NE
WEST_LONGITUDE: -110 33 45.00000
EAST_LONGITUDE: -110 30 0.00000
NORTH_LATITUDE: 46 22 30.00000
SOUTH_LATITUDE: 46 18 45.00000
PRODUCTION_DATE: 2000 11 01
RASTER_ORDER: LEFT_RIGHT/TOP_BOTTOM
BAND_ORGANIZATION: SINGLE FILE
BAND_CONTENT: BLACK&WHITE
BAND_CONTENT: UNDEFINED
BAND_CONTENT: UNDEFINED
BITS_PER_PIXEL: 8
SAMPLES_AND_LINES: 5520 7620
HORIZONTAL_DATUM: NAD83
HORIZONTAL_COORDINATE_SYSTEM: UTM
COORDINATE_ZONE: 12
HORIZONTAL_UNITS: METERS
HORIZONTAL_RESOLUTION: 1.00000
SECONDARY_HORIZONTAL_DATUM: NAD27
XY_ORIGIN: 533280.00000 5136150.00000
SECONDARY_XY_ORIGIN: 533338.91200 5135938.38600
NATION: US
STATE: MT
NW_QUAD_CORNER_XY: 533647.03700 5135806.92700
NE_QUAD_CORNER_XY: 538453.75200 5135835.39400
SE_QUAD_CORNERY_XY: 538497.59900 5128890.80800
SW_QUAD_CORNER_XY: 533685.40300 5128862.33800
SECONDARY_NW_QUAD_XY: 533648.06000 5135588.72200
SECONDARY_NE_QUAD_XY: 538454.92100 5135617.18900
SECONDARY_SE_QUAD_XY: 538498.76800 5128672.64100
SECONDARY_SW_QUAD_XY: 533686.42600 5128644.17000
RMSE_XY: 4.08000
IMAGE_SOURCE: BLACK AND WHITE FILM
SOURCE_IMAGE_ID: NAPP 9167 32
SOURCE_IMAGE_DATE: 1996 08 26
SOURCE_IMAGE_ID: NAPP 9167 30
SOURCE_IMAGE_DATE: 1996 08 26
SOURCE_IMAGE_ID: NAPP 12009 68
SOURCE_IMAGE_DATE: 1999 08 17
SOURCE_IMAGE_ID: NAPP 11006 9
SOURCE_IMAGE_DATE: 1998 07 21
SOURCE_DEM_DATE: 1993 00 00
AGENCY: WESTERN MAPPING CENTER (WMC)
PRODUCER: ANALYTICAL SURVEYS INC.
PRODUCTION_SYSTEM: ORBIT OR_RECTIFY V.5.2
COMPRESSION: UNDEFINED
STANDARD_VERSION: 1996 12
METADATA_DATE: 2000 11 22
DATA_FILE_SIZE: 42067920
BYTE_COUNT: 5520
