FILENAME: O4611044.NWS.1118720.tif
QUADRANGLE_NAME: RIMROCK DIVIDE
QUADRANT: NW
WEST_LONGITUDE: -110 37 30.00000
EAST_LONGITUDE: -110 33 45.00000
NORTH_LATITUDE: 46 22 30.00000
SOUTH_LATITUDE: 46 18 45.00000
PRODUCTION_DATE: 2000 11 01
RASTER_ORDER: LEFT_RIGHT/TOP_BOTTOM
BAND_ORGANIZATION: SINGLE FILE
BAND_CONTENT: BLACK&WHITE
BAND_CONTENT: UNDEFINED
BAND_CONTENT: UNDEFINED
BITS_PER_PIXEL: 8
SAMPLES_AND_LINES: 5520 7590
HORIZONTAL_DATUM: NAD83
HORIZONTAL_COORDINATE_SYSTEM: UTM
COORDINATE_ZONE: 12
HORIZONTAL_UNITS: METERS
HORIZONTAL_RESOLUTION: 1.00000
SECONDARY_HORIZONTAL_DATUM: NAD27
XY_ORIGIN: 528480.00000 5136120.00000
SECONDARY_XY_ORIGIN: 528538.93800 5135908.46800
NATION: US
STATE: MT
NW_QUAD_CORNER_XY: 528840.32100 5135782.25600
NE_QUAD_CORNER_XY: 533647.03700 5135806.92700
SE_QUAD_CORNERY_XY: 533685.40300 5128862.33800
SW_QUAD_CORNER_XY: 528873.20600 5128837.66400
SECONDARY_NW_QUAD_XY: 528841.19800 5135564.05000
SECONDARY_NE_QUAD_XY: 533648.06000 5135588.72200
SECONDARY_SE_QUAD_XY: 533686.42600 5128644.17000
SECONDARY_SW_QUAD_XY: 528874.08300 5128619.49600
RMSE_XY: 3.92000
IMAGE_SOURCE: BLACK AND WHITE FILM
SOURCE_IMAGE_ID: NAPP 11006 9
SOURCE_IMAGE_DATE: 1998 07 21
SOURCE_IMAGE_ID: NAPP 11006 11
SOURCE_IMAGE_DATE: 1998 07 21
SOURCE_DEM_DATE: 1993 00 00
AGENCY: WESTERN MAPPING CENTER (WMC)
PRODUCER: ANALYTICAL SURVEYS INC.
PRODUCTION_SYSTEM: ORBIT OR_RECTIFY V.5.2
COMPRESSION: UNDEFINED
STANDARD_VERSION: 1996 12
METADATA_DATE: 2000 12 06
DATA_FILE_SIZE: 41902320
BYTE_COUNT: 5520
