FILENAME: O4611044.SWS.1118722.tif
QUADRANGLE_NAME: RIMROCK DIVIDE
QUADRANT: SW
WEST_LONGITUDE: -110 37 30.00000
EAST_LONGITUDE: -110 33 45.00000
NORTH_LATITUDE: 46 18 45.00000
SOUTH_LATITUDE: 46 15 0.00000
PRODUCTION_DATE: 2000 11 01
RASTER_ORDER: LEFT_RIGHT/TOP_BOTTOM
BAND_ORGANIZATION: SINGLE FILE
BAND_CONTENT: BLACK&WHITE
BAND_CONTENT: UNDEFINED
BAND_CONTENT: UNDEFINED
BITS_PER_PIXEL: 8
SAMPLES_AND_LINES: 5520 7620
HORIZONTAL_DATUM: NAD83
HORIZONTAL_COORDINATE_SYSTEM: UTM
COORDINATE_ZONE: 12
HORIZONTAL_UNITS: METERS
HORIZONTAL_RESOLUTION: 1.00000
SECONDARY_HORIZONTAL_DATUM: NAD27
XY_ORIGIN: 528510.00000 5129190.00000
SECONDARY_XY_ORIGIN: 528569.04400 5128978.68600
NATION: US
STATE: MT
NW_QUAD_CORNER_XY: 528873.20600 5128837.66400
NE_QUAD_CORNER_XY: 533685.40300 5128862.33800
SE_QUAD_CORNERY_XY: 533723.72900 5121917.82500
SW_QUAD_CORNER_XY: 528906.05600 5121893.14900
SECONDARY_NW_QUAD_XY: 528874.08300 5128619.49600
SECONDARY_NE_QUAD_XY: 533686.42600 5128644.17000
SECONDARY_SE_QUAD_XY: 533724.75200 5121699.69500
SECONDARY_SW_QUAD_XY: 528906.93300 5121675.01900
RMSE_XY: 2.62000
IMAGE_SOURCE: BLACK AND WHITE FILM
SOURCE_IMAGE_ID: NAPP 11006 11
SOURCE_IMAGE_DATE: 1998 07 21
SOURCE_DEM_DATE: 1993 00 00
AGENCY: WESTERN MAPPING CENTER (WMC)
PRODUCER: ANALYTICAL SURVEYS INC.
PRODUCTION_SYSTEM: ORBIT OR_RECTIFY V.5.2
COMPRESSION: UNDEFINED
STANDARD_VERSION: 1996 12
METADATA_DATE: 2000 11 22
DATA_FILE_SIZE: 42067920
BYTE_COUNT: 5520
