FILENAME: O4611164.NWS.998343.tif
QUADRANGLE_NAME: BLACKTAIL MOUNTAIN
QUADRANT: NW
WEST_LONGITUDE: -111 7 30.00000
EAST_LONGITUDE: -111 3 45.00000
NORTH_LATITUDE: 46 7 30.00000
SOUTH_LATITUDE: 46 3 45.00000
PRODUCTION_DATE: 1999 4 26
RASTER_ORDER: LEFT_RIGHT/TOP_BOTTOM
BAND_ORGANIZATION: SINGLE FILE
BAND_CONTENT: BLACK&WHITE
BAND_CONTENT: UNDEFINED
BAND_CONTENT: UNDEFINED
BITS_PER_PIXEL: 8
SAMPLES_AND_LINES: 5500 7561
HORIZONTAL_DATUM: NAD83
HORIZONTAL_COORDINATE_SYSTEM: UTM
COORDINATE_ZONE: 12
HORIZONTAL_UNITS: METERS
HORIZONTAL_RESOLUTION: 1.00000
SECONDARY_HORIZONTAL_DATUM: NAD27
XY_ORIGIN: 489970.00000 5108245.00000
SECONDARY_XY_ORIGIN: 490030.24200 5108034.62800
NATION: US
STATE: MT
NW_QUAD_CORNER_XY: 490342.78000 5107943.59600
NE_QUAD_CORNER_XY: 495171.39000 5107937.90000
SE_QUAD_CORNERY_XY: 495165.93200 5100993.60800
SW_QUAD_CORNER_XY: 490331.86500 5100999.30300
SECONDARY_NW_QUAD_XY: 490342.48800 5107725.54200
SECONDARY_NE_QUAD_XY: 495171.24400 5107719.84700
SECONDARY_SE_QUAD_XY: 495165.78600 5100775.59500
SECONDARY_SW_QUAD_XY: 490331.57300 5100781.29100
RMSE_XY: 1.40000
IMAGE_SOURCE: BLACK AND WHITE FILM
SOURCE_IMAGE_ID: NAPP 9180 065
SOURCE_IMAGE_DATE: 1997 9 7
SOURCE_DEM_DATE: 1980 0 0
AGENCY: ROCKY MOUNTAIN MAPPING CENTER (RMMC)
PRODUCER: ROCKY MOUNTAIN MAPPING CENTER (RMMC)
PRODUCTION_SYSTEM: DV2.6.3 10/9OV2.4 5/95
COMPRESSION: UNDEFINED
STANDARD_VERSION: 1996 12
METADATA_DATE: 1999 4 27
DATA_FILE_SIZE: 41591000
BYTE_COUNT: 5500
