FILENAME: O4611163.SWS.998341.tif
QUADRANGLE_NAME: MAUDLOW
QUADRANT: SW
WEST_LONGITUDE: -111 15 0.00000
EAST_LONGITUDE: -111 11 15.00000
NORTH_LATITUDE: 46 3 45.00000
SOUTH_LATITUDE: 46 0 0.00000
PRODUCTION_DATE: 1999 4 26
RASTER_ORDER: LEFT_RIGHT/TOP_BOTTOM
BAND_ORGANIZATION: SINGLE FILE
BAND_CONTENT: BLACK&WHITE
BAND_CONTENT: UNDEFINED
BAND_CONTENT: UNDEFINED
BITS_PER_PIXEL: 8
SAMPLES_AND_LINES: 5520 7568
HORIZONTAL_DATUM: NAD83
HORIZONTAL_COORDINATE_SYSTEM: UTM
COORDINATE_ZONE: 12
HORIZONTAL_UNITS: METERS
HORIZONTAL_RESOLUTION: 1.00000
SECONDARY_HORIZONTAL_DATUM: NAD27
XY_ORIGIN: 480280.00000 5101323.00000
SECONDARY_XY_ORIGIN: 480340.53800 5101112.69600
NATION: US
STATE: MT
NW_QUAD_CORNER_XY: 480663.73100 5101022.08600
NE_QUAD_CORNER_XY: 485497.79800 5101008.79600
SE_QUAD_CORNERY_XY: 485481.44200 5094064.58100
SW_QUAD_CORNER_XY: 480641.92400 5094077.87200
SECONDARY_NW_QUAD_XY: 480663.14700 5100804.07400
SECONDARY_NE_QUAD_XY: 485497.36000 5100790.78400
SECONDARY_SE_QUAD_XY: 485481.00400 5093846.61000
SECONDARY_SW_QUAD_XY: 480641.34000 5093859.90200
RMSE_XY: 2.10000
IMAGE_SOURCE: BLACK AND WHITE FILM
SOURCE_IMAGE_ID: NAPP 9180 101
SOURCE_IMAGE_DATE: 1997 9 7
SOURCE_DEM_DATE: 1980 0 0
AGENCY: ROCKY MOUNTAIN MAPPING CENTER (RMMC)
PRODUCER: ROCKY MOUNTAIN MAPPING CENTER (RMMC)
PRODUCTION_SYSTEM: DV2.6.3 10/9OV2.4 5/95
COMPRESSION: UNDEFINED
STANDARD_VERSION: 1996 12
METADATA_DATE: 1999 4 27
DATA_FILE_SIZE: 41780880
BYTE_COUNT: 5520
