FILENAME: O4611162.NWS.998302.tif
QUADRANGLE_NAME: ROY GULCH
QUADRANT: NW
WEST_LONGITUDE: -111 22 30.00000
EAST_LONGITUDE: -111 18 45.00000
NORTH_LATITUDE: 46 7 30.00000
SOUTH_LATITUDE: 46 3 45.00000
PRODUCTION_DATE: 1999 4 23
RASTER_ORDER: LEFT_RIGHT/TOP_BOTTOM
BAND_ORGANIZATION: SINGLE FILE
BAND_CONTENT: BLACK&WHITE
BAND_CONTENT: UNDEFINED
BAND_CONTENT: UNDEFINED
BITS_PER_PIXEL: 8
SAMPLES_AND_LINES: 5524 7576
HORIZONTAL_DATUM: NAD83
HORIZONTAL_COORDINATE_SYSTEM: UTM
COORDINATE_ZONE: 12
HORIZONTAL_UNITS: METERS
HORIZONTAL_RESOLUTION: 1.00000
SECONDARY_HORIZONTAL_DATUM: NAD27
XY_ORIGIN: 470633.00000 5108305.00000
SECONDARY_XY_ORIGIN: 470693.62800 5108094.52000
NATION: US
STATE: MT
NW_QUAD_CORNER_XY: 471028.34700 5108004.34600
NE_QUAD_CORNER_XY: 475856.95400 5107983.46300
SE_QUAD_CORNERY_XY: 475829.66500 5101039.17400
SW_QUAD_CORNER_XY: 470995.60100 5101060.05900
SECONDARY_NW_QUAD_XY: 471027.47100 5107786.29500
SECONDARY_NE_QUAD_XY: 475856.22400 5107765.41100
SECONDARY_SE_QUAD_XY: 475828.93500 5100821.16200
SECONDARY_SW_QUAD_XY: 470994.72500 5100842.04800
RMSE_XY: 2.10000
IMAGE_SOURCE: BLACK AND WHITE FILM
SOURCE_IMAGE_ID: NAPP 9171 161
SOURCE_IMAGE_DATE: 1997 8 22
SOURCE_DEM_DATE: 1980 0 0
AGENCY: ROCKY MOUNTAIN MAPPING CENTER (RMMC)
PRODUCER: ROCKY MOUNTAIN MAPPING CENTER (RMMC)
PRODUCTION_SYSTEM: DV2.6.3 10/9OV2.4 5/95
COMPRESSION: UNDEFINED
STANDARD_VERSION: 1996 12
METADATA_DATE: 1999 4 23
DATA_FILE_SIZE: 41855348
BYTE_COUNT: 5524
