FILENAME: O4611161.SWS.998300.tif
QUADRANGLE_NAME: LOMBARD
QUADRANT: SW
WEST_LONGITUDE: -111 30 0.00000
EAST_LONGITUDE: -111 26 15.00000
NORTH_LATITUDE: 46 3 45.00000
SOUTH_LATITUDE: 46 0 0.00000
PRODUCTION_DATE: 1999 4 21
RASTER_ORDER: LEFT_RIGHT/TOP_BOTTOM
BAND_ORGANIZATION: SINGLE FILE
BAND_CONTENT: BLACK&WHITE
BAND_CONTENT: UNDEFINED
BAND_CONTENT: UNDEFINED
BITS_PER_PIXEL: 8
SAMPLES_AND_LINES: 5540 7583
HORIZONTAL_DATUM: NAD83
HORIZONTAL_COORDINATE_SYSTEM: UTM
COORDINATE_ZONE: 12
HORIZONTAL_UNITS: METERS
HORIZONTAL_RESOLUTION: 1.00000
SECONDARY_HORIZONTAL_DATUM: NAD27
XY_ORIGIN: 460921.00000 5101414.00000
SECONDARY_XY_ORIGIN: 460981.87900 5101203.54200
NATION: US
STATE: MT
NW_QUAD_CORNER_XY: 461327.47500 5101113.22000
NE_QUAD_CORNER_XY: 466161.53700 5101084.74100
SE_QUAD_CORNERY_XY: 466123.37400 5094140.53100
SW_QUAD_CORNER_XY: 461283.85900 5094169.01200
SECONDARY_NW_QUAD_XY: 461326.30700 5100895.21100
SECONDARY_NE_QUAD_XY: 466160.51500 5100866.73100
SECONDARY_SE_QUAD_XY: 466122.35200 5093922.56200
SECONDARY_SW_QUAD_XY: 461282.69200 5093951.04500
RMSE_XY: 3.60000
IMAGE_SOURCE: BLACK AND WHITE FILM
SOURCE_IMAGE_ID: NAPP 9181 040
SOURCE_IMAGE_DATE: 1997 9 9
SOURCE_DEM_DATE: 1980 0 0
AGENCY: ROCKY MOUNTAIN MAPPING CENTER (RMMC)
PRODUCER: ROCKY MOUNTAIN MAPPING CENTER (RMMC)
PRODUCTION_SYSTEM: DV2.6.3 10/9OV2.4 5/95
COMPRESSION: UNDEFINED
STANDARD_VERSION: 1996 12
METADATA_DATE: 1999 4 21
DATA_FILE_SIZE: 42015360
BYTE_COUNT: 5540
