FILENAME: O4611160.NWS.1154540.tif
QUADRANGLE_NAME: PLUNKET LAKE
QUADRANT: NW
WEST_LONGITUDE: -111 37 30.00000
EAST_LONGITUDE: -111 33 45.00000
NORTH_LATITUDE: 46 7 30.00000
SOUTH_LATITUDE: 46 3 45.00000
PRODUCTION_DATE: 2001 07 26
RASTER_ORDER: LEFT_RIGHT/TOP_BOTTOM
BAND_ORGANIZATION: SINGLE FILE
BAND_CONTENT: BLACK&WHITE
BAND_CONTENT: UNDEFINED
BAND_CONTENT: UNDEFINED
BITS_PER_PIXEL: 8
SAMPLES_AND_LINES: 5580 7620
HORIZONTAL_DATUM: NAD83
HORIZONTAL_COORDINATE_SYSTEM: UTM
COORDINATE_ZONE: 12
HORIZONTAL_UNITS: METERS
HORIZONTAL_RESOLUTION: 1.00000
SECONDARY_HORIZONTAL_DATUM: NAD27
XY_ORIGIN: 451290.00000 5108430.00000
SECONDARY_XY_ORIGIN: 451350.98100 5108219.39400
NATION: US
STATE: MT
NW_QUAD_CORNER_XY: 451713.93500 5108125.84900
NE_QUAD_CORNER_XY: 456542.53500 5108089.77800
SE_QUAD_CORNERY_XY: 456493.41500 5101145.49700
SW_QUAD_CORNER_XY: 451659.35600 5101181.57100
SECONDARY_NW_QUAD_XY: 451712.47400 5107907.80100
SECONDARY_NE_QUAD_XY: 456541.22100 5107871.72900
SECONDARY_SE_QUAD_XY: 456492.10100 5100927.48900
SECONDARY_SW_QUAD_XY: 451657.89600 5100963.56400
RMSE_XY: 1.53000
IMAGE_SOURCE: BLACK AND WHITE FILM
SOURCE_IMAGE_ID: NAPP 9181 120
SOURCE_IMAGE_DATE: 1997 09 09
SOURCE_DEM_DATE: 1986 00 00
AGENCY: WESTERN MAPPING CENTER (WMC)
PRODUCER: ANALYTICAL SURVEYS INC.
PRODUCTION_SYSTEM: ORBIT OR_RECTIFY V.5.2
COMPRESSION: UNDEFINED
STANDARD_VERSION: 1996 12
METADATA_DATE: 2001 07 30
DATA_FILE_SIZE: 42525180
BYTE_COUNT: 5580
