FILENAME: O4611159.NWS.1153715.tif
QUADRANGLE_NAME: RADERSBURG SW
QUADRANT: NW
WEST_LONGITUDE: -111 45 0.00000
EAST_LONGITUDE: -111 41 15.00000
NORTH_LATITUDE: 46 7 30.00000
SOUTH_LATITUDE: 46 3 45.00000
PRODUCTION_DATE: 2001 08 02
RASTER_ORDER: LEFT_RIGHT/TOP_BOTTOM
BAND_ORGANIZATION: SINGLE FILE
BAND_CONTENT: BLACK&WHITE
BAND_CONTENT: UNDEFINED
BAND_CONTENT: UNDEFINED
BITS_PER_PIXEL: 8
SAMPLES_AND_LINES: 5610 7620
HORIZONTAL_DATUM: NAD83
HORIZONTAL_COORDINATE_SYSTEM: UTM
COORDINATE_ZONE: 12
HORIZONTAL_UNITS: METERS
HORIZONTAL_RESOLUTION: 1.00000
SECONDARY_HORIZONTAL_DATUM: NAD27
XY_ORIGIN: 441600.00000 5108520.00000
SECONDARY_XY_ORIGIN: 441661.15700 5108309.33400
NATION: US
STATE: MT
NW_QUAD_CORNER_XY: 442056.74100 5108209.38400
NE_QUAD_CORNER_XY: 446885.33700 5108165.71800
SE_QUAD_CORNERY_XY: 446825.30000 5101221.44300
SW_QUAD_CORNER_XY: 441991.24600 5101265.11300
SECONDARY_NW_QUAD_XY: 442054.98800 5107991.33900
SECONDARY_NE_QUAD_XY: 446883.73000 5107947.67100
SECONDARY_SE_QUAD_XY: 446823.69400 5101003.43700
SECONDARY_SW_QUAD_XY: 441989.49300 5101047.10800
RMSE_XY: 1.37000
IMAGE_SOURCE: BLACK AND WHITE FILM
SOURCE_IMAGE_ID: NAPP 9181 202
SOURCE_IMAGE_DATE: 1997 09 09
SOURCE_IMAGE_ID: NAPP 9181 200
SOURCE_IMAGE_DATE: 1997 09 09
SOURCE_DEM_DATE: 1980 00 00
AGENCY: WESTERN MAPPING CENTER (WMC)
PRODUCER: ANALYTICAL SURVEYS INC.
PRODUCTION_SYSTEM: ORBIT OR_RECTIFY V.5.2
COMPRESSION: UNDEFINED
STANDARD_VERSION: 1996 12
METADATA_DATE: 2001 08 03
DATA_FILE_SIZE: 42753810
BYTE_COUNT: 5610
