FILENAME: O4611159.SES.1153716.tif
QUADRANGLE_NAME: RADERSBURG SW
QUADRANT: SE
WEST_LONGITUDE: -111 41 15.00000
EAST_LONGITUDE: -111 37 30.00000
NORTH_LATITUDE: 46 3 45.00000
SOUTH_LATITUDE: 46 0 0.00000
PRODUCTION_DATE: 2001 08 02
RASTER_ORDER: LEFT_RIGHT/TOP_BOTTOM
BAND_ORGANIZATION: SINGLE FILE
BAND_CONTENT: BLACK&WHITE
BAND_CONTENT: UNDEFINED
BAND_CONTENT: UNDEFINED
BITS_PER_PIXEL: 8
SAMPLES_AND_LINES: 5580 7620
HORIZONTAL_DATUM: NAD83
HORIZONTAL_COORDINATE_SYSTEM: UTM
COORDINATE_ZONE: 12
HORIZONTAL_UNITS: METERS
HORIZONTAL_RESOLUTION: 1.00000
SECONDARY_HORIZONTAL_DATUM: NAD27
XY_ORIGIN: 446400.00000 5101530.00000
SECONDARY_XY_ORIGIN: 446461.13700 5101319.43700
NATION: US
STATE: MT
NW_QUAD_CORNER_XY: 446825.30000 5101221.44300
NE_QUAD_CORNER_XY: 451659.35600 5101181.57100
SE_QUAD_CORNERY_XY: 451604.83600 5094237.36900
SW_QUAD_CORNER_XY: 446765.32700 5094277.24400
SECONDARY_NW_QUAD_XY: 446823.69400 5101003.43700
SECONDARY_NE_QUAD_XY: 451657.89600 5100963.56400
SECONDARY_SE_QUAD_XY: 451603.37600 5094019.40300
SECONDARY_SW_QUAD_XY: 446763.72100 5094059.27900
RMSE_XY: 1.06000
IMAGE_SOURCE: BLACK AND WHITE FILM
SOURCE_IMAGE_ID: NAPP 9181 125
SOURCE_IMAGE_DATE: 1997 09 09
SOURCE_DEM_DATE: 1980 00 00
AGENCY: WESTERN MAPPING CENTER (WMC)
PRODUCER: ANALYTICAL SURVEYS INC.
PRODUCTION_SYSTEM: ORBIT OR_RECTIFY V.5.2
COMPRESSION: UNDEFINED
STANDARD_VERSION: 1996 12
METADATA_DATE: 2001 08 03
DATA_FILE_SIZE: 42525180
BYTE_COUNT: 5580
