FILENAME: O4611158.NWS.1153711.tif
QUADRANGLE_NAME: WILLOW SPRINGS
QUADRANT: NW
WEST_LONGITUDE: -111 52 30.00000
EAST_LONGITUDE: -111 48 45.00000
NORTH_LATITUDE: 46 7 30.00000
SOUTH_LATITUDE: 46 3 45.00000
PRODUCTION_DATE: 2001 08 02
RASTER_ORDER: LEFT_RIGHT/TOP_BOTTOM
BAND_ORGANIZATION: SINGLE FILE
BAND_CONTENT: BLACK&WHITE
BAND_CONTENT: UNDEFINED
BAND_CONTENT: UNDEFINED
BITS_PER_PIXEL: 8
SAMPLES_AND_LINES: 5610 7620
HORIZONTAL_DATUM: NAD83
HORIZONTAL_COORDINATE_SYSTEM: UTM
COORDINATE_ZONE: 12
HORIZONTAL_UNITS: METERS
HORIZONTAL_RESOLUTION: 1.00000
SECONDARY_HORIZONTAL_DATUM: NAD27
XY_ORIGIN: 431940.00000 5108610.00000
SECONDARY_XY_ORIGIN: 432001.35000 5108399.29200
NATION: US
STATE: MT
NW_QUAD_CORNER_XY: 432399.55700 5108308.10900
NE_QUAD_CORNER_XY: 437228.14800 5108256.84800
SE_QUAD_CORNERY_XY: 437157.19400 5101312.58100
SW_QUAD_CORNER_XY: 432323.14500 5101363.84600
SECONDARY_NW_QUAD_XY: 432397.51300 5108090.06700
SECONDARY_NE_QUAD_XY: 437226.24900 5108038.80400
SECONDARY_SE_QUAD_XY: 437155.29600 5101094.57700
SECONDARY_SW_QUAD_XY: 432321.10000 5101145.84400
RMSE_XY: 1.12000
IMAGE_SOURCE: BLACK AND WHITE FILM
SOURCE_IMAGE_ID: NAPP 11009 10
SOURCE_IMAGE_DATE: 1998 07 22
SOURCE_DEM_DATE: 1980 00 00
AGENCY: WESTERN MAPPING CENTER (WMC)
PRODUCER: ANALYTICAL SURVEYS INC.
PRODUCTION_SYSTEM: ORBIT OR_RECTIFY V.5.2
COMPRESSION: UNDEFINED
STANDARD_VERSION: 1996 12
METADATA_DATE: 2001 08 02
DATA_FILE_SIZE: 42753810
BYTE_COUNT: 5610
