FILENAME: O4611157.NES.1153706.tif
QUADRANGLE_NAME: DUNN CREEK
QUADRANT: NE
WEST_LONGITUDE: -111 56 15.00000
EAST_LONGITUDE: -111 52 30.00000
NORTH_LATITUDE: 46 7 30.00000
SOUTH_LATITUDE: 46 3 45.00000
PRODUCTION_DATE: 2001 08 02
RASTER_ORDER: LEFT_RIGHT/TOP_BOTTOM
BAND_ORGANIZATION: SINGLE FILE
BAND_CONTENT: BLACK&WHITE
BAND_CONTENT: UNDEFINED
BAND_CONTENT: UNDEFINED
BITS_PER_PIXEL: 8
SAMPLES_AND_LINES: 5610 7620
HORIZONTAL_DATUM: NAD83
HORIZONTAL_COORDINATE_SYSTEM: UTM
COORDINATE_ZONE: 12
HORIZONTAL_UNITS: METERS
HORIZONTAL_RESOLUTION: 1.00000
SECONDARY_HORIZONTAL_DATUM: NAD27
XY_ORIGIN: 427110.00000 5108670.00000
SECONDARY_XY_ORIGIN: 427171.44700 5108459.26900
NATION: US
STATE: MT
NW_QUAD_CORNER_XY: 427570.97000 5108363.16900
NE_QUAD_CORNER_XY: 432399.55700 5108308.10900
SE_QUAD_CORNERY_XY: 432323.14500 5101363.84600
SW_QUAD_CORNER_XY: 427489.09900 5101418.91000
SECONDARY_NW_QUAD_XY: 427568.77900 5108145.12800
SECONDARY_NE_QUAD_XY: 432397.51300 5108090.06700
SECONDARY_SE_QUAD_XY: 432321.10000 5101145.84400
SECONDARY_SW_QUAD_XY: 427486.90800 5101200.91000
RMSE_XY: 0.99000
IMAGE_SOURCE: BLACK AND WHITE FILM
SOURCE_IMAGE_ID: NAPP 11009 37
SOURCE_IMAGE_DATE: 1998 07 22
SOURCE_DEM_DATE: 1980 00 00
AGENCY: WESTERN MAPPING CENTER (WMC)
PRODUCER: ANALYTICAL SURVEYS INC.
PRODUCTION_SYSTEM: ORBIT OR_RECTIFY V.5.2
COMPRESSION: UNDEFINED
STANDARD_VERSION: 1996 12
METADATA_DATE: 2001 08 02
DATA_FILE_SIZE: 42753810
BYTE_COUNT: 5610
