FILENAME: O4611157.SWS.1153709.tif
QUADRANGLE_NAME: DUNN CREEK
QUADRANT: SW
WEST_LONGITUDE: -112 0 0.00000
EAST_LONGITUDE: -111 56 15.00000
NORTH_LATITUDE: 46 3 45.00000
SOUTH_LATITUDE: 46 0 0.00000
PRODUCTION_DATE: 2001 08 02
RASTER_ORDER: LEFT_RIGHT/TOP_BOTTOM
BAND_ORGANIZATION: SINGLE FILE
BAND_CONTENT: BLACK&WHITE
BAND_CONTENT: UNDEFINED
BAND_CONTENT: UNDEFINED
BITS_PER_PIXEL: 8
SAMPLES_AND_LINES: 5610 7650
HORIZONTAL_DATUM: NAD83
HORIZONTAL_COORDINATE_SYSTEM: UTM
COORDINATE_ZONE: 12
HORIZONTAL_UNITS: METERS
HORIZONTAL_RESOLUTION: 1.00000
SECONDARY_HORIZONTAL_DATUM: NAD27
XY_ORIGIN: 422190.00000 5101800.00000
SECONDARY_XY_ORIGIN: 422251.57700 5101589.31800
NATION: US
STATE: MT
NW_QUAD_CORNER_XY: 422655.05500 5101477.77100
NE_QUAD_CORNER_XY: 427489.09900 5101418.91000
SE_QUAD_CORNERY_XY: 427407.31400 5094474.72500
SW_QUAD_CORNER_XY: 422567.81700 5094533.59100
SECONDARY_NW_QUAD_XY: 422652.71900 5101259.77300
SECONDARY_NE_QUAD_XY: 427486.90800 5101200.91000
SECONDARY_SE_QUAD_XY: 427405.12400 5094256.76600
SECONDARY_SW_QUAD_XY: 422565.48200 5094315.63400
RMSE_XY: 3.29000
IMAGE_SOURCE: BLACK AND WHITE FILM
SOURCE_IMAGE_ID: NAPP 11009 42
SOURCE_IMAGE_DATE: 1998 07 22
SOURCE_DEM_DATE: 1980 00 00
AGENCY: WESTERN MAPPING CENTER (WMC)
PRODUCER: ANALYTICAL SURVEYS INC.
PRODUCTION_SYSTEM: ORBIT OR_RECTIFY V.5.2
COMPRESSION: UNDEFINED
STANDARD_VERSION: 1996 12
METADATA_DATE: 2001 08 02
DATA_FILE_SIZE: 42922110
BYTE_COUNT: 5610
