FILENAME: O4611156.NWS.998294.tif
QUADRANGLE_NAME: FRANCIS
QUADRANT: NW
WEST_LONGITUDE: -111 7 30.00000
EAST_LONGITUDE: -111 3 45.00000
NORTH_LATITUDE: 46 15 0.00000
SOUTH_LATITUDE: 46 11 15.00000
PRODUCTION_DATE: 1999 4 27
RASTER_ORDER: LEFT_RIGHT/TOP_BOTTOM
BAND_ORGANIZATION: SINGLE FILE
BAND_CONTENT: BLACK&WHITE
BAND_CONTENT: UNDEFINED
BAND_CONTENT: UNDEFINED
BITS_PER_PIXEL: 8
SAMPLES_AND_LINES: 5492 7560
HORIZONTAL_DATUM: NAD83
HORIZONTAL_COORDINATE_SYSTEM: UTM
COORDINATE_ZONE: 12
HORIZONTAL_UNITS: METERS
HORIZONTAL_RESOLUTION: 1.00000
SECONDARY_HORIZONTAL_DATUM: NAD27
XY_ORIGIN: 489992.00000 5122133.00000
SECONDARY_XY_ORIGIN: 490051.99500 5121922.39400
NATION: US
STATE: MT
NW_QUAD_CORNER_XY: 490364.64500 5121832.40900
NE_QUAD_CORNER_XY: 495182.32200 5121826.71500
SE_QUAD_CORNERY_XY: 495176.85300 5114882.27000
SW_QUAD_CORNER_XY: 490353.70700 5114887.96400
SECONDARY_NW_QUAD_XY: 490364.35300 5121614.27700
SECONDARY_NE_QUAD_XY: 495182.17600 5121608.58300
SECONDARY_SE_QUAD_XY: 495176.70700 5114664.17600
SECONDARY_SW_QUAD_XY: 490353.41500 5114669.87100
RMSE_XY: 2.50000
IMAGE_SOURCE: BLACK AND WHITE FILM
SOURCE_IMAGE_ID: NAPP 9165 047
SOURCE_IMAGE_DATE: 1996 7 24
SOURCE_DEM_DATE: 1980 0 0
AGENCY: ROCKY MOUNTAIN MAPPING CENTER (RMMC)
PRODUCER: ROCKY MOUNTAIN MAPPING CENTER (RMMC)
PRODUCTION_SYSTEM: DV2.6.3 10/9OV2.4 5/95
COMPRESSION: UNDEFINED
STANDARD_VERSION: 1996 12
METADATA_DATE: 1999 4 28
DATA_FILE_SIZE: 41525012
BYTE_COUNT: 5492
