FILENAME: O4611155.NWS.998290.tif
QUADRANGLE_NAME: SIXMILE MOUNTAIN
QUADRANT: NW
WEST_LONGITUDE: -111 15 0.00000
EAST_LONGITUDE: -111 11 15.00000
NORTH_LATITUDE: 46 15 0.00000
SOUTH_LATITUDE: 46 11 15.00000
PRODUCTION_DATE: 1999 4 27
RASTER_ORDER: LEFT_RIGHT/TOP_BOTTOM
BAND_ORGANIZATION: SINGLE FILE
BAND_CONTENT: BLACK&WHITE
BAND_CONTENT: UNDEFINED
BAND_CONTENT: UNDEFINED
BITS_PER_PIXEL: 8
SAMPLES_AND_LINES: 5504 7568
HORIZONTAL_DATUM: NAD83
HORIZONTAL_COORDINATE_SYSTEM: UTM
COORDINATE_ZONE: 12
HORIZONTAL_UNITS: METERS
HORIZONTAL_RESOLUTION: 1.00000
SECONDARY_HORIZONTAL_DATUM: NAD27
XY_ORIGIN: 480345.00000 5122156.00000
SECONDARY_XY_ORIGIN: 480405.27600 5121945.36400
NATION: US
STATE: MT
NW_QUAD_CORNER_XY: 480729.29200 5121855.18700
NE_QUAD_CORNER_XY: 485546.96800 5121841.90000
SE_QUAD_CORNERY_XY: 485530.56100 5114897.45600
SW_QUAD_CORNER_XY: 480707.41600 5114910.74400
SECONDARY_NW_QUAD_XY: 480728.70800 5121637.05500
SECONDARY_NE_QUAD_XY: 485546.53000 5121623.76800
SECONDARY_SE_QUAD_XY: 485530.12300 5114679.36300
SECONDARY_SW_QUAD_XY: 480706.83100 5114692.65100
RMSE_XY: 2.20000
IMAGE_SOURCE: BLACK AND WHITE FILM
SOURCE_IMAGE_ID: NAPP 9180 095
SOURCE_IMAGE_DATE: 1997 9 7
SOURCE_DEM_DATE: 1980 0 0
AGENCY: ROCKY MOUNTAIN MAPPING CENTER (RMMC)
PRODUCER: ROCKY MOUNTAIN MAPPING CENTER (RMMC)
PRODUCTION_SYSTEM: DV2.6.3 10/9OV2.4 5/95
COMPRESSION: UNDEFINED
STANDARD_VERSION: 1996 12
METADATA_DATE: 1999 4 28
DATA_FILE_SIZE: 41659776
BYTE_COUNT: 5504
