FILENAME: O4611155.SES.998291.tif
QUADRANGLE_NAME: SIXMILE MOUNTAIN
QUADRANT: SE
WEST_LONGITUDE: -111 11 15.00000
EAST_LONGITUDE: -111 7 30.00000
NORTH_LATITUDE: 46 11 15.00000
SOUTH_LATITUDE: 46 7 30.00000
PRODUCTION_DATE: 1999 4 27
RASTER_ORDER: LEFT_RIGHT/TOP_BOTTOM
BAND_ORGANIZATION: SINGLE FILE
BAND_CONTENT: BLACK&WHITE
BAND_CONTENT: UNDEFINED
BAND_CONTENT: UNDEFINED
BITS_PER_PIXEL: 8
SAMPLES_AND_LINES: 5504 7564
HORIZONTAL_DATUM: NAD83
HORIZONTAL_COORDINATE_SYSTEM: UTM
COORDINATE_ZONE: 12
HORIZONTAL_UNITS: METERS
HORIZONTAL_RESOLUTION: 1.00000
SECONDARY_HORIZONTAL_DATUM: NAD27
XY_ORIGIN: 485152.00000 5115198.00000
SECONDARY_XY_ORIGIN: 485212.24100 5114987.49500
NATION: US
STATE: MT
NW_QUAD_CORNER_XY: 485530.56100 5114897.45600
NE_QUAD_CORNER_XY: 490353.70700 5114887.96400
SE_QUAD_CORNERY_XY: 490342.78000 5107943.59600
SW_QUAD_CORNER_XY: 485514.17000 5107953.08800
SECONDARY_NW_QUAD_XY: 485530.12300 5114679.36300
SECONDARY_NE_QUAD_XY: 490353.41500 5114669.87100
SECONDARY_SE_QUAD_XY: 490342.48800 5107725.54200
SECONDARY_SW_QUAD_XY: 485513.73200 5107735.03500
RMSE_XY: 2.10000
IMAGE_SOURCE: BLACK AND WHITE FILM
SOURCE_IMAGE_ID: NAPP 9180 074
SOURCE_IMAGE_DATE: 1997 9 7
SOURCE_DEM_DATE: 1980 0 0
AGENCY: ROCKY MOUNTAIN MAPPING CENTER (RMMC)
PRODUCER: ROCKY MOUNTAIN MAPPING CENTER (RMMC)
PRODUCTION_SYSTEM: DV2.6.3 10/9OV2.4 5/95
COMPRESSION: UNDEFINED
STANDARD_VERSION: 1996 12
METADATA_DATE: 1999 4 28
DATA_FILE_SIZE: 41637760
BYTE_COUNT: 5504
