FILENAME: O4611155.SWS.998292.tif
QUADRANGLE_NAME: SIXMILE MOUNTAIN
QUADRANT: SW
WEST_LONGITUDE: -111 15 0.00000
EAST_LONGITUDE: -111 11 15.00000
NORTH_LATITUDE: 46 11 15.00000
SOUTH_LATITUDE: 46 7 30.00000
PRODUCTION_DATE: 1999 4 27
RASTER_ORDER: LEFT_RIGHT/TOP_BOTTOM
BAND_ORGANIZATION: SINGLE FILE
BAND_CONTENT: BLACK&WHITE
BAND_CONTENT: UNDEFINED
BAND_CONTENT: UNDEFINED
BITS_PER_PIXEL: 8
SAMPLES_AND_LINES: 5508 7569
HORIZONTAL_DATUM: NAD83
HORIZONTAL_COORDINATE_SYSTEM: UTM
COORDINATE_ZONE: 12
HORIZONTAL_UNITS: METERS
HORIZONTAL_RESOLUTION: 1.00000
SECONDARY_HORIZONTAL_DATUM: NAD27
XY_ORIGIN: 480324.00000 5115212.00000
SECONDARY_XY_ORIGIN: 480384.36300 5115001.47700
NATION: US
STATE: MT
NW_QUAD_CORNER_XY: 480707.41600 5114910.74400
NE_QUAD_CORNER_XY: 485530.56100 5114897.45600
SE_QUAD_CORNERY_XY: 485514.17000 5107953.08800
SW_QUAD_CORNER_XY: 480685.56200 5107966.37700
SECONDARY_NW_QUAD_XY: 480706.83100 5114692.65100
SECONDARY_NE_QUAD_XY: 485530.12300 5114679.36300
SECONDARY_SE_QUAD_XY: 485513.73200 5107735.03500
SECONDARY_SW_QUAD_XY: 480684.97800 5107748.32400
RMSE_XY: 2.00000
IMAGE_SOURCE: BLACK AND WHITE FILM
SOURCE_IMAGE_ID: NAPP 9180 097
SOURCE_IMAGE_DATE: 1997 9 7
SOURCE_DEM_DATE: 1980 0 0
AGENCY: ROCKY MOUNTAIN MAPPING CENTER (RMMC)
PRODUCER: ROCKY MOUNTAIN MAPPING CENTER (RMMC)
PRODUCTION_SYSTEM: DV2.6.3 10/9OV2.4 5/95
COMPRESSION: UNDEFINED
STANDARD_VERSION: 1996 12
METADATA_DATE: 1999 4 28
DATA_FILE_SIZE: 41695560
BYTE_COUNT: 5508
