FILENAME: O4611154.NWS.998286.tif
QUADRANGLE_NAME: DEER PARK
QUADRANT: NW
WEST_LONGITUDE: -111 22 30.00000
EAST_LONGITUDE: -111 18 45.00000
NORTH_LATITUDE: 46 15 0.00000
SOUTH_LATITUDE: 46 11 15.00000
PRODUCTION_DATE: 1999 4 28
RASTER_ORDER: LEFT_RIGHT/TOP_BOTTOM
BAND_ORGANIZATION: SINGLE FILE
BAND_CONTENT: BLACK&WHITE
BAND_CONTENT: UNDEFINED
BAND_CONTENT: UNDEFINED
BITS_PER_PIXEL: 8
SAMPLES_AND_LINES: 5512 7576
HORIZONTAL_DATUM: NAD83
HORIZONTAL_COORDINATE_SYSTEM: UTM
COORDINATE_ZONE: 12
HORIZONTAL_UNITS: METERS
HORIZONTAL_RESOLUTION: 1.00000
SECONDARY_HORIZONTAL_DATUM: NAD27
XY_ORIGIN: 470699.00000 5122194.00000
SECONDARY_XY_ORIGIN: 470759.46800 5121983.32100
NATION: US
STATE: MT
NW_QUAD_CORNER_XY: 471093.94400 5121893.14900
NE_QUAD_CORNER_XY: 475911.61800 5121872.27000
SE_QUAD_CORNERY_XY: 475884.27100 5114927.82800
SW_QUAD_CORNER_XY: 471061.12800 5114948.71000
SECONDARY_NW_QUAD_XY: 471093.06700 5121675.01900
SECONDARY_NE_QUAD_XY: 475910.88700 5121654.13900
SECONDARY_SE_QUAD_XY: 475883.54100 5114709.73600
SECONDARY_SW_QUAD_XY: 471060.25100 5114730.61800
RMSE_XY: 2.00000
IMAGE_SOURCE: BLACK AND WHITE FILM
SOURCE_IMAGE_ID: NAPP 9171 157
SOURCE_IMAGE_DATE: 1997 8 22
SOURCE_DEM_DATE: 1980 0 0
AGENCY: ROCKY MOUNTAIN MAPPING CENTER (RMMC)
PRODUCER: ROCKY MOUNTAIN MAPPING CENTER (RMMC)
PRODUCTION_SYSTEM: DV2.6.3 10/9OV2.4 5/95
COMPRESSION: UNDEFINED
STANDARD_VERSION: 1996 12
METADATA_DATE: 1999 4 28
DATA_FILE_SIZE: 41764424
BYTE_COUNT: 5512
