FILENAME: O4611154.SES.998287.tif
QUADRANGLE_NAME: DEER PARK
QUADRANT: SE
WEST_LONGITUDE: -111 18 45.00000
EAST_LONGITUDE: -111 15 0.00000
NORTH_LATITUDE: 46 11 15.00000
SOUTH_LATITUDE: 46 7 30.00000
PRODUCTION_DATE: 1999 4 28
RASTER_ORDER: LEFT_RIGHT/TOP_BOTTOM
BAND_ORGANIZATION: SINGLE FILE
BAND_CONTENT: BLACK&WHITE
BAND_CONTENT: UNDEFINED
BAND_CONTENT: UNDEFINED
BITS_PER_PIXEL: 8
SAMPLES_AND_LINES: 5512 7572
HORIZONTAL_DATUM: NAD83
HORIZONTAL_COORDINATE_SYSTEM: UTM
COORDINATE_ZONE: 12
HORIZONTAL_UNITS: METERS
HORIZONTAL_RESOLUTION: 1.00000
SECONDARY_HORIZONTAL_DATUM: NAD27
XY_ORIGIN: 475495.00000 5115229.00000
SECONDARY_XY_ORIGIN: 475555.45500 5115018.45000
NATION: US
STATE: MT
NW_QUAD_CORNER_XY: 475884.27100 5114927.82800
NE_QUAD_CORNER_XY: 480707.41600 5114910.74400
SE_QUAD_CORNERY_XY: 480685.56200 5107966.37700
SW_QUAD_CORNER_XY: 475856.95400 5107983.46300
SECONDARY_NW_QUAD_XY: 475883.54100 5114709.73600
SECONDARY_NE_QUAD_XY: 480706.83100 5114692.65100
SECONDARY_SE_QUAD_XY: 480684.97800 5107748.32400
SECONDARY_SW_QUAD_XY: 475856.22400 5107765.41100
RMSE_XY: 2.40000
IMAGE_SOURCE: BLACK AND WHITE FILM
SOURCE_IMAGE_ID: NAPP 9180 108
SOURCE_IMAGE_DATE: 1997 9 7
SOURCE_DEM_DATE: 1980 0 0
AGENCY: ROCKY MOUNTAIN MAPPING CENTER (RMMC)
PRODUCER: ROCKY MOUNTAIN MAPPING CENTER (RMMC)
PRODUCTION_SYSTEM: DV2.6.3 10/9OV2.4 5/95
COMPRESSION: UNDEFINED
STANDARD_VERSION: 1996 12
METADATA_DATE: 1999 4 28
DATA_FILE_SIZE: 41742376
BYTE_COUNT: 5512
