FILENAME: O4611153.NES.998281.tif
QUADRANGLE_NAME: TOSTON
QUADRANT: NE
WEST_LONGITUDE: -111 26 15.00000
EAST_LONGITUDE: -111 22 30.00000
NORTH_LATITUDE: 46 15 0.00000
SOUTH_LATITUDE: 46 11 15.00000
PRODUCTION_DATE: 1999 4 28
RASTER_ORDER: LEFT_RIGHT/TOP_BOTTOM
BAND_ORGANIZATION: SINGLE FILE
BAND_CONTENT: BLACK&WHITE
BAND_CONTENT: UNDEFINED
BAND_CONTENT: UNDEFINED
BITS_PER_PIXEL: 8
SAMPLES_AND_LINES: 5520 7580
HORIZONTAL_DATUM: NAD83
HORIZONTAL_COORDINATE_SYSTEM: UTM
COORDINATE_ZONE: 12
HORIZONTAL_UNITS: METERS
HORIZONTAL_RESOLUTION: 1.00000
SECONDARY_HORIZONTAL_DATUM: NAD27
XY_ORIGIN: 465875.00000 5122219.00000
SECONDARY_XY_ORIGIN: 465935.00000 5122009.00000
NATION: US
STATE: MT
NW_QUAD_CORNER_XY: 466276.27100 5121917.82500
NE_QUAD_CORNER_XY: 471093.94400 5121893.14900
SE_QUAD_CORNERY_XY: 471061.12800 5114948.71000
SW_QUAD_CORNER_XY: 466237.98600 5114973.38800
SECONDARY_NW_QUAD_XY: 466275.24800 5121699.69500
SECONDARY_NE_QUAD_XY: 471093.06700 5121675.01900
SECONDARY_SE_QUAD_XY: 471060.25100 5114730.61800
SECONDARY_SW_QUAD_XY: 466236.96400 5114755.29700
RMSE_XY: 2.20000
IMAGE_SOURCE: BLACK AND WHITE FILM
SOURCE_IMAGE_ID: NAPP 9171 172
SOURCE_IMAGE_DATE: 1995 8 22
SOURCE_DEM_DATE: 1980 0 0
AGENCY: ROCKY MOUNTAIN MAPPING CENTER (RMMC)
PRODUCER: ROCKY MOUNTAIN MAPPING CENTER (RMMC)
PRODUCTION_SYSTEM: DV2.6.3 10/9OV2.4 5/95
COMPRESSION: UNDEFINED
STANDARD_VERSION: 1996 12
METADATA_DATE: 1999 4 29
DATA_FILE_SIZE: 41847120
BYTE_COUNT: 5520
