FILENAME: O4611153.NWS.998282.tif
QUADRANGLE_NAME: TOSTON
QUADRANT: NW
WEST_LONGITUDE: -111 30 0.00000
EAST_LONGITUDE: -111 26 15.00000
NORTH_LATITUDE: 46 15 0.00000
SOUTH_LATITUDE: 46 11 15.00000
PRODUCTION_DATE: 1999 4 29
RASTER_ORDER: LEFT_RIGHT/TOP_BOTTOM
BAND_ORGANIZATION: SINGLE FILE
BAND_CONTENT: BLACK&WHITE
BAND_CONTENT: UNDEFINED
BAND_CONTENT: UNDEFINED
BITS_PER_PIXEL: 8
SAMPLES_AND_LINES: 5524 7583
HORIZONTAL_DATUM: NAD83
HORIZONTAL_COORDINATE_SYSTEM: UTM
COORDINATE_ZONE: 12
HORIZONTAL_UNITS: METERS
HORIZONTAL_RESOLUTION: 1.00000
SECONDARY_HORIZONTAL_DATUM: NAD27
XY_ORIGIN: 461052.00000 5122247.00000
SECONDARY_XY_ORIGIN: 461112.66000 5122036.27700
NATION: US
STATE: MT
NW_QUAD_CORNER_XY: 461458.60000 5121946.29700
NE_QUAD_CORNER_XY: 466276.27100 5121917.82500
SE_QUAD_CORNERY_XY: 466237.98600 5114973.38800
SW_QUAD_CORNER_XY: 461414.84600 5115001.86300
SECONDARY_NW_QUAD_XY: 461457.43200 5121728.16800
SECONDARY_NE_QUAD_XY: 466275.24800 5121699.69500
SECONDARY_SE_QUAD_XY: 466236.96400 5114755.29700
SECONDARY_SW_QUAD_XY: 461413.67700 5114783.77300
RMSE_XY: 1.80000
IMAGE_SOURCE: BLACK AND WHITE FILM
SOURCE_IMAGE_ID: NAPP 9181 034
SOURCE_IMAGE_DATE: 1995 9 9
SOURCE_DEM_DATE: 1980 0 0
AGENCY: ROCKY MOUNTAIN MAPPING CENTER (RMMC)
PRODUCER: ROCKY MOUNTAIN MAPPING CENTER (RMMC)
PRODUCTION_SYSTEM: DV2.6.3 10/9OV2.4 5/95
COMPRESSION: UNDEFINED
STANDARD_VERSION: 1996 12
METADATA_DATE: 1999 4 29
DATA_FILE_SIZE: 41894016
BYTE_COUNT: 5524
