FILENAME: O4611153.SES.998283.tif
QUADRANGLE_NAME: TOSTON
QUADRANT: SE
WEST_LONGITUDE: -111 26 15.00000
EAST_LONGITUDE: -111 22 30.00000
NORTH_LATITUDE: 46 11 15.00000
SOUTH_LATITUDE: 46 7 30.00000
PRODUCTION_DATE: 1999 4 29
RASTER_ORDER: LEFT_RIGHT/TOP_BOTTOM
BAND_ORGANIZATION: SINGLE FILE
BAND_CONTENT: BLACK&WHITE
BAND_CONTENT: UNDEFINED
BAND_CONTENT: UNDEFINED
BITS_PER_PIXEL: 8
SAMPLES_AND_LINES: 5524 7579
HORIZONTAL_DATUM: NAD83
HORIZONTAL_COORDINATE_SYSTEM: UTM
COORDINATE_ZONE: 12
HORIZONTAL_UNITS: METERS
HORIZONTAL_RESOLUTION: 1.00000
SECONDARY_HORIZONTAL_DATUM: NAD27
XY_ORIGIN: 465837.00000 5115274.00000
SECONDARY_XY_ORIGIN: 465897.00000 5115064.00000
NATION: US
STATE: MT
NW_QUAD_CORNER_XY: 466237.98600 5114973.38800
NE_QUAD_CORNER_XY: 471061.12800 5114948.71000
SE_QUAD_CORNERY_XY: 471028.34700 5108004.34600
SW_QUAD_CORNER_XY: 466199.74100 5108029.02600
SECONDARY_NW_QUAD_XY: 466236.96400 5114755.29700
SECONDARY_NE_QUAD_XY: 471060.25100 5114730.61800
SECONDARY_SE_QUAD_XY: 471027.47100 5107786.29500
SECONDARY_SW_QUAD_XY: 466198.71900 5107810.97600
RMSE_XY: 2.00000
IMAGE_SOURCE: BLACK AND WHITE FILM
SOURCE_IMAGE_ID: NAPP 9171 170
SOURCE_IMAGE_DATE: 1995 8 22
SOURCE_DEM_DATE: 1980 0 0
AGENCY: ROCKY MOUNTAIN MAPPING CENTER (RMMC)
PRODUCER: ROCKY MOUNTAIN MAPPING CENTER (RMMC)
PRODUCTION_SYSTEM: DV2.6.3 10/9OV2.4 5/95
COMPRESSION: UNDEFINED
STANDARD_VERSION: 1996 12
METADATA_DATE: 1999 4 29
DATA_FILE_SIZE: 41871920
BYTE_COUNT: 5524
