FILENAME: O4611151.NES.1153738.tif
QUADRANGLE_NAME: RADERSBURG
QUADRANT: NE
WEST_LONGITUDE: -111 41 15.00000
EAST_LONGITUDE: -111 37 30.00000
NORTH_LATITUDE: 46 15 0.00000
SOUTH_LATITUDE: 46 11 15.00000
PRODUCTION_DATE: 2001 08 02
RASTER_ORDER: LEFT_RIGHT/TOP_BOTTOM
BAND_ORGANIZATION: SINGLE FILE
BAND_CONTENT: BLACK&WHITE
BAND_CONTENT: UNDEFINED
BAND_CONTENT: UNDEFINED
BITS_PER_PIXEL: 8
SAMPLES_AND_LINES: 5550 7620
HORIZONTAL_DATUM: NAD83
HORIZONTAL_COORDINATE_SYSTEM: UTM
COORDINATE_ZONE: 12
HORIZONTAL_UNITS: METERS
HORIZONTAL_RESOLUTION: 1.00000
SECONDARY_HORIZONTAL_DATUM: NAD27
XY_ORIGIN: 446580.00000 5122380.00000
SECONDARY_XY_ORIGIN: 446640.93200 5122169.22000
NATION: US
STATE: MT
NW_QUAD_CORNER_XY: 447005.60100 5122054.49300
NE_QUAD_CORNER_XY: 451823.26500 5122014.63100
SE_QUAD_CORNERY_XY: 451768.57100 5115070.20200
SW_QUAD_CORNER_XY: 446945.43700 5115110.06800
SECONDARY_NW_QUAD_XY: 447003.99400 5121836.36800
SECONDARY_NE_QUAD_XY: 451821.80400 5121796.50400
SECONDARY_SE_QUAD_XY: 451767.11000 5114852.11500
SECONDARY_SW_QUAD_XY: 446943.83000 5114891.98100
RMSE_XY: 1.56000
IMAGE_SOURCE: BLACK AND WHITE FILM
SOURCE_IMAGE_ID: NAPP 9181 131
SOURCE_IMAGE_DATE: 1997 09 09
SOURCE_DEM_DATE: 1980 00 00
AGENCY: WESTERN MAPPING CENTER (WMC)
PRODUCER: ANALYTICAL SURVEYS INC.
PRODUCTION_SYSTEM: ORBIT OR_RECTIFY V.5.2
COMPRESSION: UNDEFINED
STANDARD_VERSION: 1996 12
METADATA_DATE: 2001 08 13
DATA_FILE_SIZE: 42296550
BYTE_COUNT: 5550
