FILENAME: O4611150.NWS.1153735.tif
QUADRANGLE_NAME: DEVILS FENCE
QUADRANT: NW
WEST_LONGITUDE: -111 52 30.00000
EAST_LONGITUDE: -111 48 45.00000
NORTH_LATITUDE: 46 15 0.00000
SOUTH_LATITUDE: 46 11 15.00000
PRODUCTION_DATE: 2001 08 02
RASTER_ORDER: LEFT_RIGHT/TOP_BOTTOM
BAND_ORGANIZATION: SINGLE FILE
BAND_CONTENT: BLACK&WHITE
BAND_CONTENT: UNDEFINED
BAND_CONTENT: UNDEFINED
BITS_PER_PIXEL: 8
SAMPLES_AND_LINES: 5610 7620
HORIZONTAL_DATUM: NAD83
HORIZONTAL_COORDINATE_SYSTEM: UTM
COORDINATE_ZONE: 12
HORIZONTAL_UNITS: METERS
HORIZONTAL_RESOLUTION: 1.00000
SECONDARY_HORIZONTAL_DATUM: NAD27
XY_ORIGIN: 432090.00000 5122500.00000
SECONDARY_XY_ORIGIN: 432151.25200 5122289.15500
NATION: US
STATE: MT
NW_QUAD_CORNER_XY: 432552.62500 5122196.86000
NE_QUAD_CORNER_XY: 437370.28100 5122145.60700
SE_QUAD_CORNERY_XY: 437299.17700 5115201.19000
SW_QUAD_CORNER_XY: 432476.05100 5115252.44700
SECONDARY_NW_QUAD_XY: 432550.58000 5121978.73800
SECONDARY_NE_QUAD_XY: 437368.38100 5121927.48400
SECONDARY_SE_QUAD_XY: 437297.27800 5114983.10700
SECONDARY_SW_QUAD_XY: 432474.00600 5115034.36500
RMSE_XY: 2.25000
IMAGE_SOURCE: BLACK AND WHITE FILM
SOURCE_IMAGE_ID: NAPP 11009 14
SOURCE_IMAGE_DATE: 1998 07 22
SOURCE_DEM_DATE: 1980 00 00
AGENCY: WESTERN MAPPING CENTER (WMC)
PRODUCER: ANALYTICAL SURVEYS INC.
PRODUCTION_SYSTEM: ORBIT OR_RECTIFY V.5.2
COMPRESSION: UNDEFINED
STANDARD_VERSION: 1996 12
METADATA_DATE: 2001 08 02
DATA_FILE_SIZE: 42753810
BYTE_COUNT: 5610
