FILENAME: O4611150.SWS.1153737.tif
QUADRANGLE_NAME: DEVILS FENCE
QUADRANT: SW
WEST_LONGITUDE: -111 52 30.00000
EAST_LONGITUDE: -111 48 45.00000
NORTH_LATITUDE: 46 11 15.00000
SOUTH_LATITUDE: 46 7 30.00000
PRODUCTION_DATE: 2001 08 02
RASTER_ORDER: LEFT_RIGHT/TOP_BOTTOM
BAND_ORGANIZATION: SINGLE FILE
BAND_CONTENT: BLACK&WHITE
BAND_CONTENT: UNDEFINED
BAND_CONTENT: UNDEFINED
BITS_PER_PIXEL: 8
SAMPLES_AND_LINES: 5580 7650
HORIZONTAL_DATUM: NAD83
HORIZONTAL_COORDINATE_SYSTEM: UTM
COORDINATE_ZONE: 12
HORIZONTAL_UNITS: METERS
HORIZONTAL_RESOLUTION: 1.00000
SECONDARY_HORIZONTAL_DATUM: NAD27
XY_ORIGIN: 432030.00000 5115570.00000
SECONDARY_XY_ORIGIN: 432091.30100 5115359.22300
NATION: US
STATE: MT
NW_QUAD_CORNER_XY: 432476.05100 5115252.44700
NE_QUAD_CORNER_XY: 437299.17700 5115201.19000
SE_QUAD_CORNERY_XY: 437228.14800 5108256.84800
SW_QUAD_CORNER_XY: 432399.55700 5108308.10900
SECONDARY_NW_QUAD_XY: 432474.00600 5115034.36500
SECONDARY_NE_QUAD_XY: 437297.27800 5114983.10700
SECONDARY_SE_QUAD_XY: 437226.24900 5108038.80400
SECONDARY_SW_QUAD_XY: 432397.51300 5108090.06700
RMSE_XY: 1.55000
IMAGE_SOURCE: BLACK AND WHITE FILM
SOURCE_IMAGE_ID: NAPP 11009 12
SOURCE_IMAGE_DATE: 1998 07 22
SOURCE_DEM_DATE: 1980 00 00
AGENCY: WESTERN MAPPING CENTER (WMC)
PRODUCER: ANALYTICAL SURVEYS INC.
PRODUCTION_SYSTEM: ORBIT OR_RECTIFY V.5.2
COMPRESSION: UNDEFINED
STANDARD_VERSION: 1996 12
METADATA_DATE: 2001 08 02
DATA_FILE_SIZE: 42692580
BYTE_COUNT: 5580
