FILENAME: O4611149.NWS.1153731.tif
QUADRANGLE_NAME: TACOMA PARK
QUADRANT: NW
WEST_LONGITUDE: -112 0 0.00000
EAST_LONGITUDE: -111 56 15.00000
NORTH_LATITUDE: 46 15 0.00000
SOUTH_LATITUDE: 46 11 15.00000
PRODUCTION_DATE: 2001 08 02
RASTER_ORDER: LEFT_RIGHT/TOP_BOTTOM
BAND_ORGANIZATION: SINGLE FILE
BAND_CONTENT: BLACK&WHITE
BAND_CONTENT: UNDEFINED
BAND_CONTENT: UNDEFINED
BITS_PER_PIXEL: 8
SAMPLES_AND_LINES: 5580 7620
HORIZONTAL_DATUM: NAD83
HORIZONTAL_COORDINATE_SYSTEM: UTM
COORDINATE_ZONE: 12
HORIZONTAL_UNITS: METERS
HORIZONTAL_RESOLUTION: 1.00000
SECONDARY_HORIZONTAL_DATUM: NAD27
XY_ORIGIN: 422460.00000 5122620.00000
SECONDARY_XY_ORIGIN: 422521.48000 5122409.10600
NATION: US
STATE: MT
NW_QUAD_CORNER_XY: 422917.32500 5122310.75600
NE_QUAD_CORNER_XY: 427734.97300 5122251.90900
SE_QUAD_CORNERY_XY: 427652.92800 5115307.50200
SW_QUAD_CORNER_XY: 422829.80900 5115366.35400
SECONDARY_NW_QUAD_XY: 422914.98700 5122092.63800
SECONDARY_NE_QUAD_XY: 427732.78100 5122033.79000
SECONDARY_SE_QUAD_XY: 427650.73700 5115089.42100
SECONDARY_SW_QUAD_XY: 422827.47200 5115148.27500
RMSE_XY: 5.18000
IMAGE_SOURCE: BLACK AND WHITE FILM
SOURCE_IMAGE_ID: NAPP 11009 48
SOURCE_IMAGE_DATE: 1998 07 22
SOURCE_DEM_DATE: 1980 00 00
AGENCY: WESTERN MAPPING CENTER (WMC)
PRODUCER: ANALYTICAL SURVEYS INC.
PRODUCTION_SYSTEM: ORBIT OR_RECTIFY V.5.2
COMPRESSION: UNDEFINED
STANDARD_VERSION: 1996 12
METADATA_DATE: 2001 08 03
DATA_FILE_SIZE: 42525180
BYTE_COUNT: 5580
